{"text_format":"3","workbook":"xlsx","n_sheets":36,"sheets":["ORDER SUMMARY","ORDER 1","ORDER 2","ORDER 3","ORDER 4","ORDER 5","ORDER 6","ORDER 7","ORDER 8","ORDER 9","ORDER 10","ORDER 11","ORDER 12","ORDER 13","ORDER 14","ORDER 15","ORDER 16","ORDER 17","ORDER 18","ORDER 19","ORDER 20","ORDER 21","ORDER 22","ORDER 23","ORDER 24","ORDER 25","ORDER 26","ORDER 27","ORDER 28","ORDER 29","ORDER 30","ORDER 31","ORDER 32","ORDER 33","ORDER 34","ORDER 35"],"read":"whole","date_system":"1900"}

{"sheet":"ORDER SUMMARY","index":0,"n_rows":39,"n_cols":4,"rows_kept":39}
[{"$f":"'ORDER 1'!C2","v":"COMPANY NAME"},"ORDER SUMMARY"]
[]
["DESIGN","QUANTITY","COST","SHIP DATE"]
[{"$f":"'ORDER 1'!C11","v":"DESIGN NAME & ICON AND CODE"},{"$f":"'ORDER 1'!J45","v":0},{"$f":"'ORDER 1'!L45","v":{"v":0,"d":"$0.00"}},{"$f":"'ORDER 1'!N4","v":"SHIP DATE"}]
[{"$f":"'ORDER 2'!C11","v":"DESIGN NAME & ICON AND CODE"},{"$f":"'ORDER 2'!J45","v":0},{"$f":"'ORDER 2'!L45","v":{"v":0,"d":"$0.00"}},{"$f":"'ORDER 2'!N4","v":"SHIP DATE"}]
[{"$f":"'ORDER 3'!C11","v":"DESIGN NAME & ICON AND CODE"},{"$f":"'ORDER 3'!J45","v":0},{"$f":"'ORDER 3'!L45","v":{"v":0,"d":"$0.00"}},{"$f":"'ORDER 3'!N4","v":"SHIP DATE"}]
[{"$f":"'ORDER 4'!C11","v":"DESIGN NAME & ICON AND CODE"},{"$f":"'ORDER 4'!J45","v":0},{"$f":"'ORDER 4'!L45","v":{"v":0,"d":"$0.00"}},{"$f":"'ORDER 4'!N4","v":"SHIP DATE"}]
[{"$f":"'ORDER 5'!C11","v":"DESIGN NAME & ICON AND CODE"},{"$f":"'ORDER 5'!J45","v":0},{"$f":"'ORDER 5'!L45","v":{"v":0,"d":"$0.00"}},{"$f":"'ORDER 5'!N4","v":"SHIP DATE"}]
[{"$f":"'ORDER 6'!C11","v":"DESIGN NAME & ICON AND CODE"},{"$f":"'ORDER 6'!J45","v":0},{"$f":"'ORDER 6'!L45","v":{"v":0,"d":"$0.00"}},{"$f":"'ORDER 6'!N4","v":"SHIP DATE"}]
[{"$f":"'ORDER 7'!C11","v":"DESIGN NAME & ICON AND CODE"},{"$f":"'ORDER 7'!J45","v":0},{"$f":"'ORDER 7'!L45","v":{"v":0,"d":"$0.00"}},{"$f":"'ORDER 7'!N4","v":"SHIP DATE"}]
[{"$f":"'ORDER 8'!C11","v":"DESIGN NAME & ICON AND CODE"},{"$f":"'ORDER 8'!J45","v":0},{"$f":"'ORDER 8'!L45","v":{"v":0,"d":"$0.00"}},{"$f":"'ORDER 8'!N4","v":"SHIP DATE"}]
[{"$f":"'ORDER 9'!C11","v":"DESIGN NAME & ICON AND CODE"},{"$f":"'ORDER 9'!J45","v":0},{"$f":"'ORDER 9'!L45","v":{"v":0,"d":"$0.00"}},{"$f":"'ORDER 9'!N4","v":"SHIP DATE"}]
[{"$f":"'ORDER 10'!C11","v":"DESIGN NAME & ICON AND CODE"},{"$f":"'ORDER 10'!J45","v":0},{"$f":"'ORDER 10'!L45","v":{"v":0,"d":"$0.00"}},{"$f":"'ORDER 10'!N4","v":"SHIP DATE"}]
[{"$f":"'ORDER 11'!C11","v":"DESIGN NAME & ICON AND CODE"},{"$f":"'ORDER 11'!J45","v":0},{"$f":"'ORDER 11'!L45","v":{"v":0,"d":"$0.00"}},{"$f":"'ORDER 11'!N4","v":"SHIP DATE"}]
[{"$f":"'ORDER 12'!C11","v":"DESIGN NAME & ICON AND CODE"},{"$f":"'ORDER 12'!J45","v":0},{"$f":"'ORDER 12'!L45","v":{"v":0,"d":"$0.00"}},{"$f":"'ORDER 12'!N4","v":"SHIP DATE"}]
[{"$f":"'ORDER 13'!C11","v":"DESIGN NAME & ICON AND CODE"},{"$f":"'ORDER 13'!J45","v":0},{"$f":"'ORDER 13'!L45","v":{"v":0,"d":"$0.00"}},{"$f":"'ORDER 13'!N4","v":"SHIP DATE"}]
[{"$f":"'ORDER 14'!C11","v":"DESIGN NAME & ICON AND CODE"},{"$f":"'ORDER 14'!J45","v":0},{"$f":"'ORDER 14'!L45","v":{"v":0,"d":"$0.00"}},{"$f":"'ORDER 14'!N4","v":"SHIP DATE"}]
[{"$f":"'ORDER 15'!C11","v":"DESIGN NAME & ICON AND CODE"},{"$f":"'ORDER 15'!J45","v":0},{"$f":"'ORDER 15'!L45","v":{"v":0,"d":"$0.00"}},{"$f":"'ORDER 15'!N4","v":"SHIP DATE"}]
[{"$f":"'ORDER 16'!C11","v":"DESIGN NAME & ICON AND CODE"},{"$f":"'ORDER 16'!J45","v":0},{"$f":"'ORDER 16'!L45","v":{"v":0,"d":"$0.00"}},{"$f":"'ORDER 16'!N4","v":"SHIP DATE"}]
[{"$f":"'ORDER 17'!C11","v":"DESIGN NAME & ICON AND CODE"},{"$f":"'ORDER 17'!J45","v":0},{"$f":"'ORDER 17'!L45","v":{"v":0,"d":"$0.00"}},{"$f":"'ORDER 17'!N4","v":"SHIP DATE"}]
[{"$f":"'ORDER 18'!C11","v":"DESIGN NAME & ICON AND CODE"},{"$f":"'ORDER 18'!J45","v":0},{"$f":"'ORDER 18'!L45","v":{"v":0,"d":"$0.00"}},{"$f":"'ORDER 18'!N4","v":"SHIP DATE"}]
[{"$f":"'ORDER 19'!C11","v":"DESIGN NAME & ICON AND CODE"},{"$f":"'ORDER 19'!J45","v":0},{"$f":"'ORDER 19'!L45","v":{"v":0,"d":"$0.00"}},{"$f":"'ORDER 19'!N4","v":"SHIP DATE"}]
[{"$f":"'ORDER 20'!C11","v":"DESIGN NAME & ICON AND CODE"},{"$f":"'ORDER 20'!J45","v":0},{"$f":"'ORDER 20'!L45","v":{"v":0,"d":"$0.00"}},{"$f":"'ORDER 20'!N4","v":"SHIP DATE"}]
[{"$f":"'ORDER 21'!C11","v":"DESIGN NAME & ICON AND CODE"},{"$f":"'ORDER 21'!J45","v":0},{"$f":"'ORDER 21'!L45","v":{"v":0,"d":"$0.00"}},{"$f":"'ORDER 21'!N4","v":"SHIP DATE"}]
[{"$f":"'ORDER 22'!C11","v":"DESIGN NAME & ICON AND CODE"},{"$f":"'ORDER 22'!J45","v":0},{"$f":"'ORDER 22'!L45","v":{"v":0,"d":"$0.00"}},{"$f":"'ORDER 22'!N4","v":"SHIP DATE"}]
[{"$f":"'ORDER 23'!C11","v":"DESIGN NAME & ICON AND CODE"},{"$f":"'ORDER 23'!J45","v":0},{"$f":"'ORDER 23'!L45","v":{"v":0,"d":"$0.00"}},{"$f":"'ORDER 23'!N4","v":"SHIP DATE"}]
[{"$f":"'ORDER 24'!C11","v":"DESIGN NAME & ICON AND CODE"},{"$f":"'ORDER 24'!J45","v":0},{"$f":"'ORDER 24'!L45","v":{"v":0,"d":"$0.00"}},{"$f":"'ORDER 24'!N4","v":"SHIP DATE"}]
[{"$f":"'ORDER 25'!C11","v":"DESIGN NAME & ICON AND CODE"},{"$f":"'ORDER 25'!J45","v":0},{"$f":"'ORDER 25'!L45","v":{"v":0,"d":"$0.00"}},{"$f":"'ORDER 25'!N4","v":"SHIP DATE"}]
[{"$f":"'ORDER 26'!C11","v":"DESIGN NAME & ICON AND CODE"},{"$f":"'ORDER 26'!J45","v":0},{"$f":"'ORDER 26'!L45","v":{"v":0,"d":"$0.00"}},{"$f":"'ORDER 26'!N4","v":"SHIP DATE"}]
[{"$f":"'ORDER 27'!C11","v":"DESIGN NAME & ICON AND CODE"},{"$f":"'ORDER 27'!J45","v":0},{"$f":"'ORDER 27'!L45","v":{"v":0,"d":"$0.00"}},{"$f":"'ORDER 27'!N4","v":"SHIP DATE"}]
[{"$f":"'ORDER 28'!C11","v":"DESIGN NAME & ICON AND CODE"},{"$f":"'ORDER 28'!J45","v":0},{"$f":"'ORDER 28'!L45","v":{"v":0,"d":"$0.00"}},{"$f":"'ORDER 28'!N4","v":"SHIP DATE"}]
[{"$f":"'ORDER 29'!C11","v":"DESIGN NAME & ICON AND CODE"},{"$f":"'ORDER 29'!J45","v":0},{"$f":"'ORDER 29'!L45","v":{"v":0,"d":"$0.00"}},{"$f":"'ORDER 29'!N4","v":"SHIP DATE"}]
[{"$f":"'ORDER 30'!C11","v":"DESIGN NAME & ICON AND CODE"},{"$f":"'ORDER 30'!J45","v":0},{"$f":"'ORDER 30'!L45","v":{"v":0,"d":"$0.00"}},{"$f":"'ORDER 30'!N4","v":"SHIP DATE"}]
[{"$f":"'ORDER 31'!C11","v":"DESIGN NAME & ICON AND CODE"},{"$f":"'ORDER 31'!J45","v":0},{"$f":"'ORDER 31'!L45","v":{"v":0,"d":"$0.00"}},{"$f":"'ORDER 31'!N4","v":"SHIP DATE"}]
[{"$f":"'ORDER 32'!C11","v":"DESIGN NAME & ICON AND CODE"},{"$f":"'ORDER 32'!J45","v":0},{"$f":"'ORDER 32'!L45","v":{"v":0,"d":"$0.00"}},{"$f":"'ORDER 32'!N4","v":"SHIP DATE"}]
[{"$f":"'ORDER 33'!C11","v":"DESIGN NAME & ICON AND CODE"},{"$f":"'ORDER 33'!J45","v":0},{"$f":"'ORDER 33'!L45","v":{"v":0,"d":"$0.00"}},{"$f":"'ORDER 33'!N4","v":"SHIP DATE"}]
[{"$f":"'ORDER 34'!C11","v":"DESIGN NAME & ICON AND CODE"},{"$f":"'ORDER 34'!J45","v":0},{"$f":"'ORDER 34'!L45","v":{"v":0,"d":"$0.00"}},{"$f":"'ORDER 34'!N4","v":"SHIP DATE"}]
[{"$f":"'ORDER 35'!C11","v":"DESIGN NAME & ICON AND CODE"},{"$f":"'ORDER 35'!J45","v":0},{"$f":"'ORDER 35'!L45","v":{"v":0,"d":"$0.00"}},{"$f":"'ORDER 35'!N4","v":"SHIP DATE"}]
[null,{"$f":"SUM(B4:B38)","v":0},{"$f":"SUM(C4:C38)","v":{"v":0,"d":"$0.00"}}]

{"sheet":"ORDER 1","index":1,"n_rows":45,"n_cols":14,"rows_kept":45,"merged":[[0,1,0,5],[29,11,29,13],[30,11,30,13],[31,11,31,13],[32,11,32,13],[33,11,33,13],[34,11,34,13],[35,11,35,13],[36,11,36,13],[37,11,37,13],[38,11,38,13],[39,11,39,13],[40,11,40,13],[41,11,41,13],[42,11,42,13],[43,11,43,13],[44,11,44,13]]}
[null,"OPI",{"$nulls":5},"ORDER NUMBER"]
[null,"COMPANY","COMPANY NAME",{"$nulls":4},"SHOW","SHOW NAME",null,null,"SPECIAL NOTE"]
[null,"ACCT #","ACCOUNT #",{"$nulls":4},"PO#","PURCHASE ORDER NUMBER",null,null,"ORDER DATE",null,"ORDER DATE"]
[null,"BILL TO ","IN SYSTEM",{"$nulls":4},"CONTACT","CONTACT",null,null,"SHIP DATE",null,"SHIP DATE"]
[{"$nulls":7},"PHONE","IN SYSTEM",null,null,"SHIP EARLY DATE",null,"SHIP EARLY DATE"]
[{"$nulls":7},"FAX","IN SYSTEM",null,null,"CANCEL DATE",null,"CANCEL DATE"]
[null,"SHIP TO","IN SYSTEM",{"$nulls":4},"SHIP","UPS GROUND",null,null,"TERMS",null,"TERMS"]
[{"$nulls":7},"EMAIL","IN SYSTEM"]
[{"$nulls":7},"CCARD","credit card name, number and exp date."]
[]
[null,"DESIGN","DESIGN NAME & ICON AND CODE",{"$nulls":4},"NOTES:","EMAIL ART FOR APPROVAL"]
[null,"LOCATION","FRONT"]
[null,"NOTES","PAIRING"]
[]
[null,"BACK",{"$nulls":5},"DETAILS:"]
[null,"L1"]
[null,"L2"]
[null,"L3"]
[null,"L4"]
[null,"L5"]
[null,"L6"]
[null,"L7"]
[null,"L8"]
[null,"L9"]
[null,"LEFT CHEST"]
[null,"L1"]
[null,"L2"]
[null,"L3"]
[null,"SLEEVE"]
[null,"STYLE","COLOR","SMALL","MEDIUM","LARGE","XLARGE","XXLARGE","OSFA","TTL QTY","UNIT PRICE","EXTENDED"]
[{"$nulls":9},{"$f":"SUM(D31:I31)","v":0},null,{"$f":"J31*K31","v":{"v":0,"d":"$0.00"}}]
[{"$nulls":9},0,null,{"v":0,"d":"$0.00"}]
[{"$nulls":9},0,null,{"v":0,"d":"$0.00"}]
[{"$nulls":9},{"$f":"SUM(D34:I34)","v":0},null,{"v":0,"d":"$0.00"}]
[{"$nulls":9},0,null,{"v":0,"d":"$0.00"}]
[{"$nulls":9},0,null,{"v":0,"d":"$0.00"}]
[{"$nulls":9},0,null,{"v":0,"d":"$0.00"}]
[{"$nulls":9},0,null,{"v":0,"d":"$0.00"}]
[{"$nulls":9},0,null,{"v":0,"d":"$0.00"}]
[{"$nulls":9},0,null,{"v":0,"d":"$0.00"}]
[{"$nulls":9},0,null,{"v":0,"d":"$0.00"}]
[{"$nulls":9},0,null,{"v":0,"d":"$0.00"}]
[{"$nulls":9},0,null,{"v":0,"d":"$0.00"}]
[{"$nulls":9},0,null,{"v":0,"d":"$0.00"}]
[{"$nulls":9},{"$f":"SUM(J31:J44)","v":0},null,{"$f":"SUM(L31:L44)","v":{"v":0,"d":"$0.00"}}]

{"sheet":"ORDER 2","index":2,"n_rows":45,"n_cols":14,"rows_kept":45,"merged":[[0,1,0,5],[29,11,29,13],[30,11,30,13],[31,11,31,13],[32,11,32,13],[33,11,33,13],[34,11,34,13],[35,11,35,13],[36,11,36,13],[37,11,37,13],[38,11,38,13],[39,11,39,13],[40,11,40,13],[41,11,41,13],[42,11,42,13],[43,11,43,13],[44,11,44,13]]}
[null,"OPI",{"$nulls":5},"ORDER NUMBER"]
[null,"COMPANY","COMPANY NAME",{"$nulls":4},"SHOW","SHOW NAME",null,null,"SPECIAL NOTE"]
[null,"ACCT #","ACCOUNT #",{"$nulls":4},"PO#","PURCHASE ORDER NUMBER",null,null,"ORDER DATE",null,"ORDER DATE"]
[null,"BILL TO ","IN SYSTEM",{"$nulls":4},"CONTACT","CONTACT",null,null,"SHIP DATE",null,"SHIP DATE"]
[{"$nulls":7},"PHONE","IN SYSTEM",null,null,"SHIP EARLY DATE",null,"SHIP EARLY DATE"]
[{"$nulls":7},"FAX","IN SYSTEM",null,null,"CANCEL DATE",null,"CANCEL DATE"]
[null,"SHIP TO","IN SYSTEM",{"$nulls":4},"SHIP","UPS GROUND",null,null,"TERMS",null,"TERMS"]
[{"$nulls":7},"EMAIL","IN SYSTEM"]
[{"$nulls":7},"CCARD","credit card name, number and exp date."]
[]
[null,"DESIGN","DESIGN NAME & ICON AND CODE",{"$nulls":4},"NOTES:","EMAIL ART FOR APPROVAL"]
[null,"LOCATION","FRONT"]
[null,"NOTES","PAIRING"]
[]
[null,"BACK",{"$nulls":5},"DETAILS:"]
[null,"L1"]
[null,"L2"]
[null,"L3"]
[null,"L4"]
[null,"L5"]
[null,"L6"]
[null,"L7"]
[null,"L8"]
[null,"L9"]
[null,"LEFT CHEST"]
[null,"L1"]
[null,"L2"]
[null,"L3"]
[null,"SLEEVE"]
[null,"STYLE","COLOR","SMALL","MEDIUM","LARGE","XLARGE","XXLARGE","OSFA","TTL QTY","UNIT PRICE","EXTENDED"]
[{"$nulls":9},{"$f":"SUM(D31:I31)","v":0},null,{"$f":"J31*K31","v":{"v":0,"d":"$0.00"}}]
[{"$nulls":9},0,null,{"$f":"J32*K32","v":{"v":0,"d":"$0.00"}}]
[{"$nulls":9},{"$f":"SUM(D33:I33)","v":0},null,{"$f":"J33*K33","v":{"v":0,"d":"$0.00"}}]
[{"$nulls":9},0,null,{"v":0,"d":"$0.00"}]
[{"$nulls":9},0,null,{"v":0,"d":"$0.00"}]
[{"$nulls":9},0,null,{"v":0,"d":"$0.00"}]
[{"$nulls":9},0,null,{"v":0,"d":"$0.00"}]
[{"$nulls":9},0,null,{"v":0,"d":"$0.00"}]
[{"$nulls":9},0,null,{"v":0,"d":"$0.00"}]
[{"$nulls":9},0,null,{"v":0,"d":"$0.00"}]
[{"$nulls":9},0,null,{"v":0,"d":"$0.00"}]
[{"$nulls":9},0,null,{"v":0,"d":"$0.00"}]
[{"$nulls":9},0,null,{"v":0,"d":"$0.00"}]
[{"$nulls":9},0,null,{"v":0,"d":"$0.00"}]
[{"$nulls":9},{"$f":"SUM(J31:J44)","v":0},null,{"$f":"SUM(L31:L44)","v":{"v":0,"d":"$0.00"}}]

{"sheet":"ORDER 3","index":3,"n_rows":45,"n_cols":14,"rows_kept":45,"merged":[[0,1,0,5],[29,11,29,13],[30,11,30,13],[31,11,31,13],[32,11,32,13],[33,11,33,13],[34,11,34,13],[35,11,35,13],[36,11,36,13],[37,11,37,13],[38,11,38,13],[39,11,39,13],[40,11,40,13],[41,11,41,13],[42,11,42,13],[43,11,43,13],[44,11,44,13]]}
[null,"OPI",{"$nulls":5},"ORDER NUMBER"]
[null,"COMPANY","COMPANY NAME",{"$nulls":4},"SHOW","SHOW NAME",null,null,"SPECIAL NOTE"]
[null,"ACCT #","ACCOUNT #",{"$nulls":4},"PO#","PURCHASE ORDER NUMBER",null,null,"ORDER DATE",null,"ORDER DATE"]
[null,"BILL TO ","IN SYSTEM",{"$nulls":4},"CONTACT","CONTACT",null,null,"SHIP DATE",null,"SHIP DATE"]
[{"$nulls":7},"PHONE","IN SYSTEM",null,null,"SHIP EARLY DATE",null,"SHIP EARLY DATE"]
[{"$nulls":7},"FAX","IN SYSTEM",null,null,"CANCEL DATE",null,"CANCEL DATE"]
[null,"SHIP TO","IN SYSTEM",{"$nulls":4},"SHIP","UPS GROUND",null,null,"TERMS",null,"TERMS"]
[{"$nulls":7},"EMAIL","IN SYSTEM"]
[{"$nulls":7},"CCARD","credit card name, number and exp date."]
[]
[null,"DESIGN","DESIGN NAME & ICON AND CODE",{"$nulls":4},"NOTES:","EMAIL ART FOR APPROVAL"]
[null,"LOCATION","FRONT"]
[null,"NOTES","PAIRING"]
[]
[null,"BACK",{"$nulls":5},"DETAILS:"]
[null,"L1"]
[null,"L2"]
[null,"L3"]
[null,"L4"]
[null,"L5"]
[null,"L6"]
[null,"L7"]
[null,"L8"]
[null,"L9"]
[null,"LEFT CHEST"]
[null,"L1"]
[null,"L2"]
[null,"L3"]
[null,"SLEEVE"]
[null,"STYLE","COLOR","SMALL","MEDIUM","LARGE","XLARGE","XXLARGE","OSFA","TTL QTY","UNIT PRICE","EXTENDED"]
[{"$nulls":9},{"$f":"SUM(D31:I31)","v":0},null,{"$f":"J31*K31","v":{"v":0,"d":"$0.00"}}]
[{"$nulls":9},0,null,{"$f":"J32*K32","v":{"v":0,"d":"$0.00"}}]
[{"$nulls":9},{"$f":"SUM(D33:I33)","v":0},null,{"$f":"J33*K33","v":{"v":0,"d":"$0.00"}}]
[{"$nulls":9},0,null,{"v":0,"d":"$0.00"}]
[{"$nulls":9},0,null,{"v":0,"d":"$0.00"}]
[{"$nulls":9},0,null,{"v":0,"d":"$0.00"}]
[{"$nulls":9},0,null,{"v":0,"d":"$0.00"}]
[{"$nulls":9},0,null,{"v":0,"d":"$0.00"}]
[{"$nulls":9},0,null,{"v":0,"d":"$0.00"}]
[{"$nulls":9},0,null,{"v":0,"d":"$0.00"}]
[{"$nulls":9},0,null,{"v":0,"d":"$0.00"}]
[{"$nulls":9},0,null,{"v":0,"d":"$0.00"}]
[{"$nulls":9},0,null,{"v":0,"d":"$0.00"}]
[{"$nulls":9},0,null,{"v":0,"d":"$0.00"}]
[{"$nulls":9},{"$f":"SUM(J31:J44)","v":0},null,{"$f":"SUM(L31:L44)","v":{"v":0,"d":"$0.00"}}]

{"sheet":"ORDER 4","index":4,"n_rows":45,"n_cols":14,"rows_kept":45,"merged":[[0,1,0,5],[29,11,29,13],[30,11,30,13],[31,11,31,13],[32,11,32,13],[33,11,33,13],[34,11,34,13],[35,11,35,13],[36,11,36,13],[37,11,37,13],[38,11,38,13],[39,11,39,13],[40,11,40,13],[41,11,41,13],[42,11,42,13],[43,11,43,13],[44,11,44,13]]}
[null,"OPI",{"$nulls":5},"ORDER NUMBER"]
[null,"COMPANY","COMPANY NAME",{"$nulls":4},"SHOW","SHOW NAME",null,null,"SPECIAL NOTE"]
[null,"ACCT #","ACCOUNT #",{"$nulls":4},"PO#","PURCHASE ORDER NUMBER",null,null,"ORDER DATE",null,"ORDER DATE"]
[null,"BILL TO ","IN SYSTEM",{"$nulls":4},"CONTACT","CONTACT",null,null,"SHIP DATE",null,"SHIP DATE"]
[{"$nulls":7},"PHONE","IN SYSTEM",null,null,"SHIP EARLY DATE",null,"SHIP EARLY DATE"]
[{"$nulls":7},"FAX","IN SYSTEM",null,null,"CANCEL DATE",null,"CANCEL DATE"]
[null,"SHIP TO","IN SYSTEM",{"$nulls":4},"SHIP","UPS GROUND",null,null,"TERMS",null,"TERMS"]
[{"$nulls":7},"EMAIL","IN SYSTEM"]
[{"$nulls":7},"CCARD","credit card name, number and exp date."]
[]
[null,"DESIGN","DESIGN NAME & ICON AND CODE",{"$nulls":4},"NOTES:","EMAIL ART FOR APPROVAL"]
[null,"LOCATION","FRONT"]
[null,"NOTES","PAIRING"]
[]
[null,"BACK",{"$nulls":5},"DETAILS:"]
[null,"L1"]
[null,"L2"]
[null,"L3"]
[null,"L4"]
[null,"L5"]
[null,"L6"]
[null,"L7"]
[null,"L8"]
[null,"L9"]
[null,"LEFT CHEST"]
[null,"L1"]
[null,"L2"]
[null,"L3"]
[null,"SLEEVE"]
[null,"STYLE","COLOR","SMALL","MEDIUM","LARGE","XLARGE","XXLARGE","OSFA","TTL QTY","UNIT PRICE","EXTENDED"]
[{"$nulls":9},{"$f":"SUM(D31:I31)","v":0},null,{"$f":"J31*K31","v":{"v":0,"d":"$0.00"}}]
[{"$nulls":9},0,null,{"$f":"J32*K32","v":{"v":0,"d":"$0.00"}}]
[{"$nulls":9},{"$f":"SUM(D33:I33)","v":0},null,{"$f":"J33*K33","v":{"v":0,"d":"$0.00"}}]
[{"$nulls":9},0,null,{"v":0,"d":"$0.00"}]
[{"$nulls":9},0,null,{"v":0,"d":"$0.00"}]
[{"$nulls":9},0,null,{"v":0,"d":"$0.00"}]
[{"$nulls":9},0,null,{"v":0,"d":"$0.00"}]
[{"$nulls":9},0,null,{"v":0,"d":"$0.00"}]
[{"$nulls":9},0,null,{"v":0,"d":"$0.00"}]
[{"$nulls":9},0,null,{"v":0,"d":"$0.00"}]
[{"$nulls":9},0,null,{"v":0,"d":"$0.00"}]
[{"$nulls":9},0,null,{"v":0,"d":"$0.00"}]
[{"$nulls":9},0,null,{"v":0,"d":"$0.00"}]
[{"$nulls":9},0,null,{"v":0,"d":"$0.00"}]
[{"$nulls":9},{"$f":"SUM(J31:J44)","v":0},null,{"$f":"SUM(L31:L44)","v":{"v":0,"d":"$0.00"}}]

{"sheet":"ORDER 5","index":5,"n_rows":45,"n_cols":14,"rows_kept":45,"merged":[[0,1,0,5],[29,11,29,13],[30,11,30,13],[31,11,31,13],[32,11,32,13],[33,11,33,13],[34,11,34,13],[35,11,35,13],[36,11,36,13],[37,11,37,13],[38,11,38,13],[39,11,39,13],[40,11,40,13],[41,11,41,13],[42,11,42,13],[43,11,43,13],[44,11,44,13]]}
[null,"OPI",{"$nulls":5},"ORDER NUMBER"]
[null,"COMPANY","COMPANY NAME",{"$nulls":4},"SHOW","SHOW NAME",null,null,"SPECIAL NOTE"]
[null,"ACCT #","ACCOUNT #",{"$nulls":4},"PO#","PURCHASE ORDER NUMBER",null,null,"ORDER DATE",null,"ORDER DATE"]
[null,"BILL TO ","IN SYSTEM",{"$nulls":4},"CONTACT","CONTACT",null,null,"SHIP DATE",null,"SHIP DATE"]
[{"$nulls":7},"PHONE","IN SYSTEM",null,null,"SHIP EARLY DATE",null,"SHIP EARLY DATE"]
[{"$nulls":7},"FAX","IN SYSTEM",null,null,"CANCEL DATE",null,"CANCEL DATE"]
[null,"SHIP TO","IN SYSTEM",{"$nulls":4},"SHIP","UPS GROUND",null,null,"TERMS",null,"TERMS"]
[{"$nulls":7},"EMAIL","IN SYSTEM"]
[{"$nulls":7},"CCARD","credit card name, number and exp date."]
[]
[null,"DESIGN","DESIGN NAME & ICON AND CODE",{"$nulls":4},"NOTES:","EMAIL ART FOR APPROVAL"]
[null,"LOCATION","FRONT"]
[null,"NOTES","PAIRING"]
[]
[null,"BACK",{"$nulls":5},"DETAILS:"]
[null,"L1"]
[null,"L2"]
[null,"L3"]
[null,"L4"]
[null,"L5"]
[null,"L6"]
[null,"L7"]
[null,"L8"]
[null,"L9"]
[null,"LEFT CHEST"]
[null,"L1"]
[null,"L2"]
[null,"L3"]
[null,"SLEEVE"]
[null,"STYLE","COLOR","SMALL","MEDIUM","LARGE","XLARGE","XXLARGE","OSFA","TTL QTY","UNIT PRICE","EXTENDED"]
[{"$nulls":9},{"$f":"SUM(D31:I31)","v":0},null,{"$f":"J31*K31","v":{"v":0,"d":"$0.00"}}]
[{"$nulls":9},0,null,{"$f":"J32*K32","v":{"v":0,"d":"$0.00"}}]
[{"$nulls":9},{"$f":"SUM(D33:I33)","v":0},null,{"$f":"J33*K33","v":{"v":0,"d":"$0.00"}}]
[{"$nulls":9},0,null,{"v":0,"d":"$0.00"}]
[{"$nulls":9},0,null,{"v":0,"d":"$0.00"}]
[{"$nulls":9},0,null,{"v":0,"d":"$0.00"}]
[{"$nulls":9},0,null,{"v":0,"d":"$0.00"}]
[{"$nulls":9},0,null,{"v":0,"d":"$0.00"}]
[{"$nulls":9},0,null,{"v":0,"d":"$0.00"}]
[{"$nulls":9},0,null,{"v":0,"d":"$0.00"}]
[{"$nulls":9},0,null,{"v":0,"d":"$0.00"}]
[{"$nulls":9},0,null,{"v":0,"d":"$0.00"}]
[{"$nulls":9},0,null,{"v":0,"d":"$0.00"}]
[{"$nulls":9},0,null,{"v":0,"d":"$0.00"}]
[{"$nulls":9},{"$f":"SUM(J31:J44)","v":0},null,{"$f":"SUM(L31:L44)","v":{"v":0,"d":"$0.00"}}]

{"sheet":"ORDER 6","index":6,"n_rows":45,"n_cols":14,"rows_kept":45,"merged":[[0,1,0,5],[29,11,29,13],[30,11,30,13],[31,11,31,13],[32,11,32,13],[33,11,33,13],[34,11,34,13],[35,11,35,13],[36,11,36,13],[37,11,37,13],[38,11,38,13],[39,11,39,13],[40,11,40,13],[41,11,41,13],[42,11,42,13],[43,11,43,13],[44,11,44,13]]}
[null,"OPI",{"$nulls":5},"ORDER NUMBER"]
[null,"COMPANY","COMPANY NAME",{"$nulls":4},"SHOW","SHOW NAME",null,null,"SPECIAL NOTE"]
[null,"ACCT #","ACCOUNT #",{"$nulls":4},"PO#","PURCHASE ORDER NUMBER",null,null,"ORDER DATE",null,"ORDER DATE"]
[null,"BILL TO ","IN SYSTEM",{"$nulls":4},"CONTACT","CONTACT",null,null,"SHIP DATE",null,"SHIP DATE"]
[{"$nulls":7},"PHONE","IN SYSTEM",null,null,"SHIP EARLY DATE",null,"SHIP EARLY DATE"]
[{"$nulls":7},"FAX","IN SYSTEM",null,null,"CANCEL DATE",null,"CANCEL DATE"]
[null,"SHIP TO","IN SYSTEM",{"$nulls":4},"SHIP","UPS GROUND",null,null,"TERMS",null,"TERMS"]
[{"$nulls":7},"EMAIL","IN SYSTEM"]
[{"$nulls":7},"CCARD","credit card name, number and exp date."]
[]
[null,"DESIGN","DESIGN NAME & ICON AND CODE",{"$nulls":4},"NOTES:","EMAIL ART FOR APPROVAL"]
[null,"LOCATION","FRONT"]
[null,"NOTES","PAIRING"]
[]
[null,"BACK",{"$nulls":5},"DETAILS:"]
[null,"L1"]
[null,"L2"]
[null,"L3"]
[null,"L4"]
[null,"L5"]
[null,"L6"]
[null,"L7"]
[null,"L8"]
[null,"L9"]
[null,"LEFT CHEST"]
[null,"L1"]
[null,"L2"]
[null,"L3"]
[null,"SLEEVE"]
[null,"STYLE","COLOR","SMALL","MEDIUM","LARGE","XLARGE","XXLARGE","OSFA","TTL QTY","UNIT PRICE","EXTENDED"]
[{"$nulls":9},{"$f":"SUM(D31:I31)","v":0},null,{"$f":"J31*K31","v":{"v":0,"d":"$0.00"}}]
[{"$nulls":9},0,null,{"$f":"J32*K32","v":{"v":0,"d":"$0.00"}}]
[{"$nulls":9},{"$f":"SUM(D33:I33)","v":0},null,{"$f":"J33*K33","v":{"v":0,"d":"$0.00"}}]
[{"$nulls":9},0,null,{"v":0,"d":"$0.00"}]
[{"$nulls":9},0,null,{"v":0,"d":"$0.00"}]
[{"$nulls":9},0,null,{"v":0,"d":"$0.00"}]
[{"$nulls":9},0,null,{"v":0,"d":"$0.00"}]
[{"$nulls":9},0,null,{"v":0,"d":"$0.00"}]
[{"$nulls":9},0,null,{"v":0,"d":"$0.00"}]
[{"$nulls":9},0,null,{"v":0,"d":"$0.00"}]
[{"$nulls":9},0,null,{"v":0,"d":"$0.00"}]
[{"$nulls":9},0,null,{"v":0,"d":"$0.00"}]
[{"$nulls":9},0,null,{"v":0,"d":"$0.00"}]
[{"$nulls":9},0,null,{"v":0,"d":"$0.00"}]
[{"$nulls":9},{"$f":"SUM(J31:J44)","v":0},null,{"$f":"SUM(L31:L44)","v":{"v":0,"d":"$0.00"}}]

{"sheet":"ORDER 7","index":7,"n_rows":45,"n_cols":14,"rows_kept":45,"merged":[[0,1,0,5],[29,11,29,13],[30,11,30,13],[31,11,31,13],[32,11,32,13],[33,11,33,13],[34,11,34,13],[35,11,35,13],[36,11,36,13],[37,11,37,13],[38,11,38,13],[39,11,39,13],[40,11,40,13],[41,11,41,13],[42,11,42,13],[43,11,43,13],[44,11,44,13]]}
[null,"OPI",{"$nulls":5},"ORDER NUMBER"]
[null,"COMPANY","COMPANY NAME",{"$nulls":4},"SHOW","SHOW NAME",null,null,"SPECIAL NOTE"]
[null,"ACCT #","ACCOUNT #",{"$nulls":4},"PO#","PURCHASE ORDER NUMBER",null,null,"ORDER DATE",null,"ORDER DATE"]
[null,"BILL TO ","IN SYSTEM",{"$nulls":4},"CONTACT","CONTACT",null,null,"SHIP DATE",null,"SHIP DATE"]
[{"$nulls":7},"PHONE","IN SYSTEM",null,null,"SHIP EARLY DATE",null,"SHIP EARLY DATE"]
[{"$nulls":7},"FAX","IN SYSTEM",null,null,"CANCEL DATE",null,"CANCEL DATE"]
[null,"SHIP TO","IN SYSTEM",{"$nulls":4},"SHIP","UPS GROUND",null,null,"TERMS",null,"TERMS"]
[{"$nulls":7},"EMAIL","IN SYSTEM"]
[{"$nulls":7},"CCARD","credit card name, number and exp date."]
[]
[null,"DESIGN","DESIGN NAME & ICON AND CODE",{"$nulls":4},"NOTES:","EMAIL ART FOR APPROVAL"]
[null,"LOCATION","FRONT"]
[null,"NOTES","PAIRING"]
[]
[null,"BACK",{"$nulls":5},"DETAILS:"]
[null,"L1"]
[null,"L2"]
[null,"L3"]
[null,"L4"]
[null,"L5"]
[null,"L6"]
[null,"L7"]
[null,"L8"]
[null,"L9"]
[null,"LEFT CHEST"]
[null,"L1"]
[null,"L2"]
[null,"L3"]
[null,"SLEEVE"]
[null,"STYLE","COLOR","SMALL","MEDIUM","LARGE","XLARGE","XXLARGE","OSFA","TTL QTY","UNIT PRICE","EXTENDED"]
[{"$nulls":9},{"$f":"SUM(D31:I31)","v":0},null,{"$f":"J31*K31","v":{"v":0,"d":"$0.00"}}]
[{"$nulls":9},0,null,{"$f":"J32*K32","v":{"v":0,"d":"$0.00"}}]
[{"$nulls":9},{"$f":"SUM(D33:I33)","v":0},null,{"$f":"J33*K33","v":{"v":0,"d":"$0.00"}}]
[{"$nulls":9},0,null,{"v":0,"d":"$0.00"}]
[{"$nulls":9},0,null,{"v":0,"d":"$0.00"}]
[{"$nulls":9},0,null,{"v":0,"d":"$0.00"}]
[{"$nulls":9},0,null,{"v":0,"d":"$0.00"}]
[{"$nulls":9},0,null,{"v":0,"d":"$0.00"}]
[{"$nulls":9},0,null,{"v":0,"d":"$0.00"}]
[{"$nulls":9},0,null,{"v":0,"d":"$0.00"}]
[{"$nulls":9},0,null,{"v":0,"d":"$0.00"}]
[{"$nulls":9},0,null,{"v":0,"d":"$0.00"}]
[{"$nulls":9},0,null,{"v":0,"d":"$0.00"}]
[{"$nulls":9},0,null,{"v":0,"d":"$0.00"}]
[{"$nulls":9},{"$f":"SUM(J31:J44)","v":0},null,{"$f":"SUM(L31:L44)","v":{"v":0,"d":"$0.00"}}]

{"sheet":"ORDER 8","index":8,"n_rows":45,"n_cols":14,"rows_kept":45,"merged":[[0,1,0,5],[29,11,29,13],[30,11,30,13],[31,11,31,13],[32,11,32,13],[33,11,33,13],[34,11,34,13],[35,11,35,13],[36,11,36,13],[37,11,37,13],[38,11,38,13],[39,11,39,13],[40,11,40,13],[41,11,41,13],[42,11,42,13],[43,11,43,13],[44,11,44,13]]}
[null,"OPI",{"$nulls":5},"ORDER NUMBER"]
[null,"COMPANY","COMPANY NAME",{"$nulls":4},"SHOW","SHOW NAME",null,null,"SPECIAL NOTE"]
[null,"ACCT #","ACCOUNT #",{"$nulls":4},"PO#","PURCHASE ORDER NUMBER",null,null,"ORDER DATE",null,"ORDER DATE"]
[null,"BILL TO ","IN SYSTEM",{"$nulls":4},"CONTACT","CONTACT",null,null,"SHIP DATE",null,"SHIP DATE"]
[{"$nulls":7},"PHONE","IN SYSTEM",null,null,"SHIP EARLY DATE",null,"SHIP EARLY DATE"]
[{"$nulls":7},"FAX","IN SYSTEM",null,null,"CANCEL DATE",null,"CANCEL DATE"]
[null,"SHIP TO","IN SYSTEM",{"$nulls":4},"SHIP","UPS GROUND",null,null,"TERMS",null,"TERMS"]
[{"$nulls":7},"EMAIL","IN SYSTEM"]
[{"$nulls":7},"CCARD","credit card name, number and exp date."]
[]
[null,"DESIGN","DESIGN NAME & ICON AND CODE",{"$nulls":4},"NOTES:","EMAIL ART FOR APPROVAL"]
[null,"LOCATION","FRONT"]
[null,"NOTES","PAIRING"]
[]
[null,"BACK",{"$nulls":5},"DETAILS:"]
[null,"L1"]
[null,"L2"]
[null,"L3"]
[null,"L4"]
[null,"L5"]
[null,"L6"]
[null,"L7"]
[null,"L8"]
[null,"L9"]
[null,"LEFT CHEST"]
[null,"L1"]
[null,"L2"]
[null,"L3"]
[null,"SLEEVE"]
[null,"STYLE","COLOR","SMALL","MEDIUM","LARGE","XLARGE","XXLARGE","OSFA","TTL QTY","UNIT PRICE","EXTENDED"]
[{"$nulls":9},{"$f":"SUM(D31:I31)","v":0},null,{"$f":"J31*K31","v":{"v":0,"d":"$0.00"}}]
[{"$nulls":9},0,null,{"$f":"J32*K32","v":{"v":0,"d":"$0.00"}}]
[{"$nulls":9},{"$f":"SUM(D33:I33)","v":0},null,{"$f":"J33*K33","v":{"v":0,"d":"$0.00"}}]
[{"$nulls":9},0,null,{"v":0,"d":"$0.00"}]
[{"$nulls":9},0,null,{"v":0,"d":"$0.00"}]
[{"$nulls":9},0,null,{"v":0,"d":"$0.00"}]
[{"$nulls":9},0,null,{"v":0,"d":"$0.00"}]
[{"$nulls":9},0,null,{"v":0,"d":"$0.00"}]
[{"$nulls":9},0,null,{"v":0,"d":"$0.00"}]
[{"$nulls":9},0,null,{"v":0,"d":"$0.00"}]
[{"$nulls":9},0,null,{"v":0,"d":"$0.00"}]
[{"$nulls":9},0,null,{"v":0,"d":"$0.00"}]
[{"$nulls":9},0,null,{"v":0,"d":"$0.00"}]
[{"$nulls":9},0,null,{"v":0,"d":"$0.00"}]
[{"$nulls":9},{"$f":"SUM(J31:J44)","v":0},null,{"$f":"SUM(L31:L44)","v":{"v":0,"d":"$0.00"}}]

{"sheet":"ORDER 9","index":9,"n_rows":45,"n_cols":14,"rows_kept":45,"merged":[[0,1,0,5],[29,11,29,13],[30,11,30,13],[31,11,31,13],[32,11,32,13],[33,11,33,13],[34,11,34,13],[35,11,35,13],[36,11,36,13],[37,11,37,13],[38,11,38,13],[39,11,39,13],[40,11,40,13],[41,11,41,13],[42,11,42,13],[43,11,43,13],[44,11,44,13]]}
[null,"OPI",{"$nulls":5},"ORDER NUMBER"]
[null,"COMPANY","COMPANY NAME",{"$nulls":4},"SHOW","SHOW NAME",null,null,"SPECIAL NOTE"]
[null,"ACCT #","ACCOUNT #",{"$nulls":4},"PO#","PURCHASE ORDER NUMBER",null,null,"ORDER DATE",null,"ORDER DATE"]
[null,"BILL TO ","IN SYSTEM",{"$nulls":4},"CONTACT","CONTACT",null,null,"SHIP DATE",null,"SHIP DATE"]
[{"$nulls":7},"PHONE","IN SYSTEM",null,null,"SHIP EARLY DATE",null,"SHIP EARLY DATE"]
[{"$nulls":7},"FAX","IN SYSTEM",null,null,"CANCEL DATE",null,"CANCEL DATE"]
[null,"SHIP TO","IN SYSTEM",{"$nulls":4},"SHIP","UPS GROUND",null,null,"TERMS",null,"TERMS"]
[{"$nulls":7},"EMAIL","IN SYSTEM"]
[{"$nulls":7},"CCARD","credit card name, number and exp date."]
[]
[null,"DESIGN","DESIGN NAME & ICON AND CODE",{"$nulls":4},"NOTES:","EMAIL ART FOR APPROVAL"]
[null,"LOCATION","FRONT"]
[null,"NOTES","PAIRING"]
[]
[null,"BACK",{"$nulls":5},"DETAILS:"]
[null,"L1"]
[null,"L2"]
[null,"L3"]
[null,"L4"]
[null,"L5"]
[null,"L6"]
[null,"L7"]
[null,"L8"]
[null,"L9"]
[null,"LEFT CHEST"]
[null,"L1"]
[null,"L2"]
[null,"L3"]
[null,"SLEEVE"]
[null,"STYLE","COLOR","SMALL","MEDIUM","LARGE","XLARGE","XXLARGE","OSFA","TTL QTY","UNIT PRICE","EXTENDED"]
[{"$nulls":9},{"$f":"SUM(D31:I31)","v":0},null,{"$f":"J31*K31","v":{"v":0,"d":"$0.00"}}]
[{"$nulls":9},0,null,{"$f":"J32*K32","v":{"v":0,"d":"$0.00"}}]
[{"$nulls":9},{"$f":"SUM(D33:I33)","v":0},null,{"$f":"J33*K33","v":{"v":0,"d":"$0.00"}}]
[{"$nulls":9},0,null,{"v":0,"d":"$0.00"}]
[{"$nulls":9},0,null,{"v":0,"d":"$0.00"}]
[{"$nulls":9},0,null,{"v":0,"d":"$0.00"}]
[{"$nulls":9},0,null,{"v":0,"d":"$0.00"}]
[{"$nulls":9},0,null,{"v":0,"d":"$0.00"}]
[{"$nulls":9},0,null,{"v":0,"d":"$0.00"}]
[{"$nulls":9},0,null,{"v":0,"d":"$0.00"}]
[{"$nulls":9},0,null,{"v":0,"d":"$0.00"}]
[{"$nulls":9},0,null,{"v":0,"d":"$0.00"}]
[{"$nulls":9},0,null,{"v":0,"d":"$0.00"}]
[{"$nulls":9},0,null,{"v":0,"d":"$0.00"}]
[{"$nulls":9},{"$f":"SUM(J31:J44)","v":0},null,{"$f":"SUM(L31:L44)","v":{"v":0,"d":"$0.00"}}]

{"sheet":"ORDER 10","index":10,"n_rows":45,"n_cols":14,"rows_kept":45,"merged":[[0,1,0,5],[29,11,29,13],[30,11,30,13],[31,11,31,13],[32,11,32,13],[33,11,33,13],[34,11,34,13],[35,11,35,13],[36,11,36,13],[37,11,37,13],[38,11,38,13],[39,11,39,13],[40,11,40,13],[41,11,41,13],[42,11,42,13],[43,11,43,13],[44,11,44,13]]}
[null,"OPI",{"$nulls":5},"ORDER NUMBER"]
[null,"COMPANY","COMPANY NAME",{"$nulls":4},"SHOW","SHOW NAME",null,null,"SPECIAL NOTE"]
[null,"ACCT #","ACCOUNT #",{"$nulls":4},"PO#","PURCHASE ORDER NUMBER",null,null,"ORDER DATE",null,"ORDER DATE"]
[null,"BILL TO ","IN SYSTEM",{"$nulls":4},"CONTACT","CONTACT",null,null,"SHIP DATE",null,"SHIP DATE"]
[{"$nulls":7},"PHONE","IN SYSTEM",null,null,"SHIP EARLY DATE",null,"SHIP EARLY DATE"]
[{"$nulls":7},"FAX","IN SYSTEM",null,null,"CANCEL DATE",null,"CANCEL DATE"]
[null,"SHIP TO","IN SYSTEM",{"$nulls":4},"SHIP","UPS GROUND",null,null,"TERMS",null,"TERMS"]
[{"$nulls":7},"EMAIL","IN SYSTEM"]
[{"$nulls":7},"CCARD","credit card name, number and exp date."]
[]
[null,"DESIGN","DESIGN NAME & ICON AND CODE",{"$nulls":4},"NOTES:","EMAIL ART FOR APPROVAL"]
[null,"LOCATION","FRONT"]
[null,"NOTES","PAIRING"]
[]
[null,"BACK",{"$nulls":5},"DETAILS:"]
[null,"L1"]
[null,"L2"]
[null,"L3"]
[null,"L4"]
[null,"L5"]
[null,"L6"]
[null,"L7"]
[null,"L8"]
[null,"L9"]
[null,"LEFT CHEST"]
[null,"L1"]
[null,"L2"]
[null,"L3"]
[null,"SLEEVE"]
[null,"STYLE","COLOR","SMALL","MEDIUM","LARGE","XLARGE","XXLARGE","OSFA","TTL QTY","UNIT PRICE","EXTENDED"]
[{"$nulls":9},{"$f":"SUM(D31:I31)","v":0},null,{"$f":"J31*K31","v":{"v":0,"d":"$0.00"}}]
[{"$nulls":9},0,null,{"$f":"J32*K32","v":{"v":0,"d":"$0.00"}}]
[{"$nulls":9},{"$f":"SUM(D33:I33)","v":0},null,{"$f":"J33*K33","v":{"v":0,"d":"$0.00"}}]
[{"$nulls":9},0,null,{"v":0,"d":"$0.00"}]
[{"$nulls":9},0,null,{"v":0,"d":"$0.00"}]
[{"$nulls":9},0,null,{"v":0,"d":"$0.00"}]
[{"$nulls":9},0,null,{"v":0,"d":"$0.00"}]
[{"$nulls":9},0,null,{"v":0,"d":"$0.00"}]
[{"$nulls":9},0,null,{"v":0,"d":"$0.00"}]
[{"$nulls":9},0,null,{"v":0,"d":"$0.00"}]
[{"$nulls":9},0,null,{"v":0,"d":"$0.00"}]
[{"$nulls":9},0,null,{"v":0,"d":"$0.00"}]
[{"$nulls":9},0,null,{"v":0,"d":"$0.00"}]
[{"$nulls":9},0,null,{"v":0,"d":"$0.00"}]
[{"$nulls":9},{"$f":"SUM(J31:J44)","v":0},null,{"$f":"SUM(L31:L44)","v":{"v":0,"d":"$0.00"}}]

{"sheet":"ORDER 11","index":11,"n_rows":45,"n_cols":14,"rows_kept":45,"merged":[[0,1,0,5],[29,11,29,13],[30,11,30,13],[31,11,31,13],[32,11,32,13],[33,11,33,13],[34,11,34,13],[35,11,35,13],[36,11,36,13],[37,11,37,13],[38,11,38,13],[39,11,39,13],[40,11,40,13],[41,11,41,13],[42,11,42,13],[43,11,43,13],[44,11,44,13]]}
[null,"OPI",{"$nulls":5},"ORDER NUMBER"]
[null,"COMPANY","COMPANY NAME",{"$nulls":4},"SHOW","SHOW NAME",null,null,"SPECIAL NOTE"]
[null,"ACCT #","ACCOUNT #",{"$nulls":4},"PO#","PURCHASE ORDER NUMBER",null,null,"ORDER DATE",null,"ORDER DATE"]
[null,"BILL TO ","IN SYSTEM",{"$nulls":4},"CONTACT","CONTACT",null,null,"SHIP DATE",null,"SHIP DATE"]
[{"$nulls":7},"PHONE","IN SYSTEM",null,null,"SHIP EARLY DATE",null,"SHIP EARLY DATE"]
[{"$nulls":7},"FAX","IN SYSTEM",null,null,"CANCEL DATE",null,"CANCEL DATE"]
[null,"SHIP TO","IN SYSTEM",{"$nulls":4},"SHIP","UPS GROUND",null,null,"TERMS",null,"TERMS"]
[{"$nulls":7},"EMAIL","IN SYSTEM"]
[{"$nulls":7},"CCARD","credit card name, number and exp date."]
[]
[null,"DESIGN","DESIGN NAME & ICON AND CODE",{"$nulls":4},"NOTES:","EMAIL ART FOR APPROVAL"]
[null,"LOCATION","FRONT"]
[null,"NOTES","PAIRING"]
[]
[null,"BACK",{"$nulls":5},"DETAILS:"]
[null,"L1"]
[null,"L2"]
[null,"L3"]
[null,"L4"]
[null,"L5"]
[null,"L6"]
[null,"L7"]
[null,"L8"]
[null,"L9"]
[null,"LEFT CHEST"]
[null,"L1"]
[null,"L2"]
[null,"L3"]
[null,"SLEEVE"]
[null,"STYLE","COLOR","SMALL","MEDIUM","LARGE","XLARGE","XXLARGE","OSFA","TTL QTY","UNIT PRICE","EXTENDED"]
[{"$nulls":9},{"$f":"SUM(D31:I31)","v":0},null,{"$f":"J31*K31","v":{"v":0,"d":"$0.00"}}]
[{"$nulls":9},0,null,{"$f":"J32*K32","v":{"v":0,"d":"$0.00"}}]
[{"$nulls":9},{"$f":"SUM(D33:I33)","v":0},null,{"$f":"J33*K33","v":{"v":0,"d":"$0.00"}}]
[{"$nulls":9},0,null,{"v":0,"d":"$0.00"}]
[{"$nulls":9},0,null,{"v":0,"d":"$0.00"}]
[{"$nulls":9},0,null,{"v":0,"d":"$0.00"}]
[{"$nulls":9},0,null,{"v":0,"d":"$0.00"}]
[{"$nulls":9},0,null,{"v":0,"d":"$0.00"}]
[{"$nulls":9},0,null,{"v":0,"d":"$0.00"}]
[{"$nulls":9},0,null,{"v":0,"d":"$0.00"}]
[{"$nulls":9},0,null,{"v":0,"d":"$0.00"}]
[{"$nulls":9},0,null,{"v":0,"d":"$0.00"}]
[{"$nulls":9},0,null,{"v":0,"d":"$0.00"}]
[{"$nulls":9},0,null,{"v":0,"d":"$0.00"}]
[{"$nulls":9},{"$f":"SUM(J31:J44)","v":0},null,{"$f":"SUM(L31:L44)","v":{"v":0,"d":"$0.00"}}]

{"sheet":"ORDER 12","index":12,"n_rows":45,"n_cols":14,"rows_kept":45,"merged":[[0,1,0,5],[29,11,29,13],[30,11,30,13],[31,11,31,13],[32,11,32,13],[33,11,33,13],[34,11,34,13],[35,11,35,13],[36,11,36,13],[37,11,37,13],[38,11,38,13],[39,11,39,13],[40,11,40,13],[41,11,41,13],[42,11,42,13],[43,11,43,13],[44,11,44,13]]}
[null,"OPI",{"$nulls":5},"ORDER NUMBER"]
[null,"COMPANY","COMPANY NAME",{"$nulls":4},"SHOW","SHOW NAME",null,null,"SPECIAL NOTE"]
[null,"ACCT #","ACCOUNT #",{"$nulls":4},"PO#","PURCHASE ORDER NUMBER",null,null,"ORDER DATE",null,"ORDER DATE"]
[null,"BILL TO ","IN SYSTEM",{"$nulls":4},"CONTACT","CONTACT",null,null,"SHIP DATE",null,"SHIP DATE"]
[{"$nulls":7},"PHONE","IN SYSTEM",null,null,"SHIP EARLY DATE",null,"SHIP EARLY DATE"]
[{"$nulls":7},"FAX","IN SYSTEM",null,null,"CANCEL DATE",null,"CANCEL DATE"]
[null,"SHIP TO","IN SYSTEM",{"$nulls":4},"SHIP","UPS GROUND",null,null,"TERMS",null,"TERMS"]
[{"$nulls":7},"EMAIL","IN SYSTEM"]
[{"$nulls":7},"CCARD","credit card name, number and exp date."]
[]
[null,"DESIGN","DESIGN NAME & ICON AND CODE",{"$nulls":4},"NOTES:","EMAIL ART FOR APPROVAL"]
[null,"LOCATION","FRONT"]
[null,"NOTES","PAIRING"]
[]
[null,"BACK",{"$nulls":5},"DETAILS:"]
[null,"L1"]
[null,"L2"]
[null,"L3"]
[null,"L4"]
[null,"L5"]
[null,"L6"]
[null,"L7"]
[null,"L8"]
[null,"L9"]
[null,"LEFT CHEST"]
[null,"L1"]
[null,"L2"]
[null,"L3"]
[null,"SLEEVE"]
[null,"STYLE","COLOR","SMALL","MEDIUM","LARGE","XLARGE","XXLARGE","OSFA","TTL QTY","UNIT PRICE","EXTENDED"]
[{"$nulls":9},{"$f":"SUM(D31:I31)","v":0},null,{"$f":"J31*K31","v":{"v":0,"d":"$0.00"}}]
[{"$nulls":9},0,null,{"$f":"J32*K32","v":{"v":0,"d":"$0.00"}}]
[{"$nulls":9},{"$f":"SUM(D33:I33)","v":0},null,{"$f":"J33*K33","v":{"v":0,"d":"$0.00"}}]
[{"$nulls":9},0,null,{"v":0,"d":"$0.00"}]
[{"$nulls":9},0,null,{"v":0,"d":"$0.00"}]
[{"$nulls":9},0,null,{"v":0,"d":"$0.00"}]
[{"$nulls":9},0,null,{"v":0,"d":"$0.00"}]
[{"$nulls":9},0,null,{"v":0,"d":"$0.00"}]
[{"$nulls":9},0,null,{"v":0,"d":"$0.00"}]
[{"$nulls":9},0,null,{"v":0,"d":"$0.00"}]
[{"$nulls":9},0,null,{"v":0,"d":"$0.00"}]
[{"$nulls":9},0,null,{"v":0,"d":"$0.00"}]
[{"$nulls":9},0,null,{"v":0,"d":"$0.00"}]
[{"$nulls":9},0,null,{"v":0,"d":"$0.00"}]
[{"$nulls":9},{"$f":"SUM(J31:J44)","v":0},null,{"$f":"SUM(L31:L44)","v":{"v":0,"d":"$0.00"}}]

{"sheet":"ORDER 13","index":13,"n_rows":45,"n_cols":14,"rows_kept":45,"merged":[[0,1,0,5],[29,11,29,13],[30,11,30,13],[31,11,31,13],[32,11,32,13],[33,11,33,13],[34,11,34,13],[35,11,35,13],[36,11,36,13],[37,11,37,13],[38,11,38,13],[39,11,39,13],[40,11,40,13],[41,11,41,13],[42,11,42,13],[43,11,43,13],[44,11,44,13]]}
[null,"OPI",{"$nulls":5},"ORDER NUMBER"]
[null,"COMPANY","COMPANY NAME",{"$nulls":4},"SHOW","SHOW NAME",null,null,"SPECIAL NOTE"]
[null,"ACCT #","ACCOUNT #",{"$nulls":4},"PO#","PURCHASE ORDER NUMBER",null,null,"ORDER DATE",null,"ORDER DATE"]
[null,"BILL TO ","IN SYSTEM",{"$nulls":4},"CONTACT","CONTACT",null,null,"SHIP DATE",null,"SHIP DATE"]
[{"$nulls":7},"PHONE","IN SYSTEM",null,null,"SHIP EARLY DATE",null,"SHIP EARLY DATE"]
[{"$nulls":7},"FAX","IN SYSTEM",null,null,"CANCEL DATE",null,"CANCEL DATE"]
[null,"SHIP TO","IN SYSTEM",{"$nulls":4},"SHIP","UPS GROUND",null,null,"TERMS",null,"TERMS"]
[{"$nulls":7},"EMAIL","IN SYSTEM"]
[{"$nulls":7},"CCARD","credit card name, number and exp date."]
[]
[null,"DESIGN","DESIGN NAME & ICON AND CODE",{"$nulls":4},"NOTES:","EMAIL ART FOR APPROVAL"]
[null,"LOCATION","FRONT"]
[null,"NOTES","PAIRING"]
[]
[null,"BACK",{"$nulls":5},"DETAILS:"]
[null,"L1"]
[null,"L2"]
[null,"L3"]
[null,"L4"]
[null,"L5"]
[null,"L6"]
[null,"L7"]
[null,"L8"]
[null,"L9"]
[null,"LEFT CHEST"]
[null,"L1"]
[null,"L2"]
[null,"L3"]
[null,"SLEEVE"]
[null,"STYLE","COLOR","SMALL","MEDIUM","LARGE","XLARGE","XXLARGE","OSFA","TTL QTY","UNIT PRICE","EXTENDED"]
[{"$nulls":9},{"$f":"SUM(D31:I31)","v":0},null,{"$f":"J31*K31","v":{"v":0,"d":"$0.00"}}]
[{"$nulls":9},0,null,{"$f":"J32*K32","v":{"v":0,"d":"$0.00"}}]
[{"$nulls":9},{"$f":"SUM(D33:I33)","v":0},null,{"$f":"J33*K33","v":{"v":0,"d":"$0.00"}}]
[{"$nulls":9},0,null,{"v":0,"d":"$0.00"}]
[{"$nulls":9},0,null,{"v":0,"d":"$0.00"}]
[{"$nulls":9},0,null,{"v":0,"d":"$0.00"}]
[{"$nulls":9},0,null,{"v":0,"d":"$0.00"}]
[{"$nulls":9},0,null,{"v":0,"d":"$0.00"}]
[{"$nulls":9},0,null,{"v":0,"d":"$0.00"}]
[{"$nulls":9},0,null,{"v":0,"d":"$0.00"}]
[{"$nulls":9},0,null,{"v":0,"d":"$0.00"}]
[{"$nulls":9},0,null,{"v":0,"d":"$0.00"}]
[{"$nulls":9},0,null,{"v":0,"d":"$0.00"}]
[{"$nulls":9},0,null,{"v":0,"d":"$0.00"}]
[{"$nulls":9},{"$f":"SUM(J31:J44)","v":0},null,{"$f":"SUM(L31:L44)","v":{"v":0,"d":"$0.00"}}]

{"sheet":"ORDER 14","index":14,"n_rows":45,"n_cols":14,"rows_kept":45,"merged":[[0,1,0,5],[29,11,29,13],[30,11,30,13],[31,11,31,13],[32,11,32,13],[33,11,33,13],[34,11,34,13],[35,11,35,13],[36,11,36,13],[37,11,37,13],[38,11,38,13],[39,11,39,13],[40,11,40,13],[41,11,41,13],[42,11,42,13],[43,11,43,13],[44,11,44,13]]}
[null,"OPI",{"$nulls":5},"ORDER NUMBER"]
[null,"COMPANY","COMPANY NAME",{"$nulls":4},"SHOW","SHOW NAME",null,null,"SPECIAL NOTE"]
[null,"ACCT #","ACCOUNT #",{"$nulls":4},"PO#","PURCHASE ORDER NUMBER",null,null,"ORDER DATE",null,"ORDER DATE"]
[null,"BILL TO ","IN SYSTEM",{"$nulls":4},"CONTACT","CONTACT",null,null,"SHIP DATE",null,"SHIP DATE"]
[{"$nulls":7},"PHONE","IN SYSTEM",null,null,"SHIP EARLY DATE",null,"SHIP EARLY DATE"]
[{"$nulls":7},"FAX","IN SYSTEM",null,null,"CANCEL DATE",null,"CANCEL DATE"]
[null,"SHIP TO","IN SYSTEM",{"$nulls":4},"SHIP","UPS GROUND",null,null,"TERMS",null,"TERMS"]
[{"$nulls":7},"EMAIL","IN SYSTEM"]
[{"$nulls":7},"CCARD","credit card name, number and exp date."]
[]
[null,"DESIGN","DESIGN NAME & ICON AND CODE",{"$nulls":4},"NOTES:","EMAIL ART FOR APPROVAL"]
[null,"LOCATION","FRONT"]
[null,"NOTES","PAIRING"]
[]
[null,"BACK",{"$nulls":5},"DETAILS:"]
[null,"L1"]
[null,"L2"]
[null,"L3"]
[null,"L4"]
[null,"L5"]
[null,"L6"]
[null,"L7"]
[null,"L8"]
[null,"L9"]
[null,"LEFT CHEST"]
[null,"L1"]
[null,"L2"]
[null,"L3"]
[null,"SLEEVE"]
[null,"STYLE","COLOR","SMALL","MEDIUM","LARGE","XLARGE","XXLARGE","OSFA","TTL QTY","UNIT PRICE","EXTENDED"]
[{"$nulls":9},{"$f":"SUM(D31:I31)","v":0},null,{"$f":"J31*K31","v":{"v":0,"d":"$0.00"}}]
[{"$nulls":9},0,null,{"$f":"J32*K32","v":{"v":0,"d":"$0.00"}}]
[{"$nulls":9},{"$f":"SUM(D33:I33)","v":0},null,{"$f":"J33*K33","v":{"v":0,"d":"$0.00"}}]
[{"$nulls":9},0,null,{"v":0,"d":"$0.00"}]
[{"$nulls":9},0,null,{"v":0,"d":"$0.00"}]
[{"$nulls":9},0,null,{"v":0,"d":"$0.00"}]
[{"$nulls":9},0,null,{"v":0,"d":"$0.00"}]
[{"$nulls":9},0,null,{"v":0,"d":"$0.00"}]
[{"$nulls":9},0,null,{"v":0,"d":"$0.00"}]
[{"$nulls":9},0,null,{"v":0,"d":"$0.00"}]
[{"$nulls":9},0,null,{"v":0,"d":"$0.00"}]
[{"$nulls":9},0,null,{"v":0,"d":"$0.00"}]
[{"$nulls":9},0,null,{"v":0,"d":"$0.00"}]
[{"$nulls":9},0,null,{"v":0,"d":"$0.00"}]
[{"$nulls":9},{"$f":"SUM(J31:J44)","v":0},null,{"$f":"SUM(L31:L44)","v":{"v":0,"d":"$0.00"}}]

{"sheet":"ORDER 15","index":15,"n_rows":45,"n_cols":14,"rows_kept":45,"merged":[[0,1,0,5],[29,11,29,13],[30,11,30,13],[31,11,31,13],[32,11,32,13],[33,11,33,13],[34,11,34,13],[35,11,35,13],[36,11,36,13],[37,11,37,13],[38,11,38,13],[39,11,39,13],[40,11,40,13],[41,11,41,13],[42,11,42,13],[43,11,43,13],[44,11,44,13]]}
[null,"OPI",{"$nulls":5},"ORDER NUMBER"]
[null,"COMPANY","COMPANY NAME",{"$nulls":4},"SHOW","SHOW NAME",null,null,"SPECIAL NOTE"]
[null,"ACCT #","ACCOUNT #",{"$nulls":4},"PO#","PURCHASE ORDER NUMBER",null,null,"ORDER DATE",null,"ORDER DATE"]
[null,"BILL TO ","IN SYSTEM",{"$nulls":4},"CONTACT","CONTACT",null,null,"SHIP DATE",null,"SHIP DATE"]
[{"$nulls":7},"PHONE","IN SYSTEM",null,null,"SHIP EARLY DATE",null,"SHIP EARLY DATE"]
[{"$nulls":7},"FAX","IN SYSTEM",null,null,"CANCEL DATE",null,"CANCEL DATE"]
[null,"SHIP TO","IN SYSTEM",{"$nulls":4},"SHIP","UPS GROUND",null,null,"TERMS",null,"TERMS"]
[{"$nulls":7},"EMAIL","IN SYSTEM"]
[{"$nulls":7},"CCARD","credit card name, number and exp date."]
[]
[null,"DESIGN","DESIGN NAME & ICON AND CODE",{"$nulls":4},"NOTES:","EMAIL ART FOR APPROVAL"]
[null,"LOCATION","FRONT"]
[null,"NOTES","PAIRING"]
[]
[null,"BACK",{"$nulls":5},"DETAILS:"]
[null,"L1"]
[null,"L2"]
[null,"L3"]
[null,"L4"]
[null,"L5"]
[null,"L6"]
[null,"L7"]
[null,"L8"]
[null,"L9"]
[null,"LEFT CHEST"]
[null,"L1"]
[null,"L2"]
[null,"L3"]
[null,"SLEEVE"]
[null,"STYLE","COLOR","SMALL","MEDIUM","LARGE","XLARGE","XXLARGE","OSFA","TTL QTY","UNIT PRICE","EXTENDED"]
[{"$nulls":9},{"$f":"SUM(D31:I31)","v":0},null,{"$f":"J31*K31","v":{"v":0,"d":"$0.00"}}]
[{"$nulls":9},0,null,{"$f":"J32*K32","v":{"v":0,"d":"$0.00"}}]
[{"$nulls":9},{"$f":"SUM(D33:I33)","v":0},null,{"$f":"J33*K33","v":{"v":0,"d":"$0.00"}}]
[{"$nulls":9},0,null,{"v":0,"d":"$0.00"}]
[{"$nulls":9},0,null,{"v":0,"d":"$0.00"}]
[{"$nulls":9},0,null,{"v":0,"d":"$0.00"}]
[{"$nulls":9},0,null,{"v":0,"d":"$0.00"}]
[{"$nulls":9},0,null,{"v":0,"d":"$0.00"}]
[{"$nulls":9},0,null,{"v":0,"d":"$0.00"}]
[{"$nulls":9},0,null,{"v":0,"d":"$0.00"}]
[{"$nulls":9},0,null,{"v":0,"d":"$0.00"}]
[{"$nulls":9},0,null,{"v":0,"d":"$0.00"}]
[{"$nulls":9},0,null,{"v":0,"d":"$0.00"}]
[{"$nulls":9},0,null,{"v":0,"d":"$0.00"}]
[{"$nulls":9},{"$f":"SUM(J31:J44)","v":0},null,{"$f":"SUM(L31:L44)","v":{"v":0,"d":"$0.00"}}]

{"sheet":"ORDER 16","index":16,"n_rows":45,"n_cols":14,"rows_kept":45,"merged":[[0,1,0,5],[29,11,29,13],[30,11,30,13],[31,11,31,13],[32,11,32,13],[33,11,33,13],[34,11,34,13],[35,11,35,13],[36,11,36,13],[37,11,37,13],[38,11,38,13],[39,11,39,13],[40,11,40,13],[41,11,41,13],[42,11,42,13],[43,11,43,13],[44,11,44,13]]}
[null,"OPI",{"$nulls":5},"ORDER NUMBER"]
[null,"COMPANY","COMPANY NAME",{"$nulls":4},"SHOW","SHOW NAME",null,null,"SPECIAL NOTE"]
[null,"ACCT #","ACCOUNT #",{"$nulls":4},"PO#","PURCHASE ORDER NUMBER",null,null,"ORDER DATE",null,"ORDER DATE"]
[null,"BILL TO ","IN SYSTEM",{"$nulls":4},"CONTACT","CONTACT",null,null,"SHIP DATE",null,"SHIP DATE"]
[{"$nulls":7},"PHONE","IN SYSTEM",null,null,"SHIP EARLY DATE",null,"SHIP EARLY DATE"]
[{"$nulls":7},"FAX","IN SYSTEM",null,null,"CANCEL DATE",null,"CANCEL DATE"]
[null,"SHIP TO","IN SYSTEM",{"$nulls":4},"SHIP","UPS GROUND",null,null,"TERMS",null,"TERMS"]
[{"$nulls":7},"EMAIL","IN SYSTEM"]
[{"$nulls":7},"CCARD","credit card name, number and exp date."]
[]
[null,"DESIGN","DESIGN NAME & ICON AND CODE",{"$nulls":4},"NOTES:","EMAIL ART FOR APPROVAL"]
[null,"LOCATION","FRONT"]
[null,"NOTES","PAIRING"]
[]
[null,"BACK",{"$nulls":5},"DETAILS:"]
[null,"L1"]
[null,"L2"]
[null,"L3"]
[null,"L4"]
[null,"L5"]
[null,"L6"]
[null,"L7"]
[null,"L8"]
[null,"L9"]
[null,"LEFT CHEST"]
[null,"L1"]
[null,"L2"]
[null,"L3"]
[null,"SLEEVE"]
[null,"STYLE","COLOR","SMALL","MEDIUM","LARGE","XLARGE","XXLARGE","OSFA","TTL QTY","UNIT PRICE","EXTENDED"]
[{"$nulls":9},{"$f":"SUM(D31:I31)","v":0},null,{"$f":"J31*K31","v":{"v":0,"d":"$0.00"}}]
[{"$nulls":9},0,null,{"$f":"J32*K32","v":{"v":0,"d":"$0.00"}}]
[{"$nulls":9},{"$f":"SUM(D33:I33)","v":0},null,{"$f":"J33*K33","v":{"v":0,"d":"$0.00"}}]
[{"$nulls":9},0,null,{"v":0,"d":"$0.00"}]
[{"$nulls":9},0,null,{"v":0,"d":"$0.00"}]
[{"$nulls":9},0,null,{"v":0,"d":"$0.00"}]
[{"$nulls":9},0,null,{"v":0,"d":"$0.00"}]
[{"$nulls":9},0,null,{"v":0,"d":"$0.00"}]
[{"$nulls":9},0,null,{"v":0,"d":"$0.00"}]
[{"$nulls":9},0,null,{"v":0,"d":"$0.00"}]
[{"$nulls":9},0,null,{"v":0,"d":"$0.00"}]
[{"$nulls":9},0,null,{"v":0,"d":"$0.00"}]
[{"$nulls":9},0,null,{"v":0,"d":"$0.00"}]
[{"$nulls":9},0,null,{"v":0,"d":"$0.00"}]
[{"$nulls":9},{"$f":"SUM(J31:J44)","v":0},null,{"$f":"SUM(L31:L44)","v":{"v":0,"d":"$0.00"}}]

{"sheet":"ORDER 17","index":17,"n_rows":45,"n_cols":14,"rows_kept":45,"merged":[[0,1,0,5],[29,11,29,13],[30,11,30,13],[31,11,31,13],[32,11,32,13],[33,11,33,13],[34,11,34,13],[35,11,35,13],[36,11,36,13],[37,11,37,13],[38,11,38,13],[39,11,39,13],[40,11,40,13],[41,11,41,13],[42,11,42,13],[43,11,43,13],[44,11,44,13]]}
[null,"OPI",{"$nulls":5},"ORDER NUMBER"]
[null,"COMPANY","COMPANY NAME",{"$nulls":4},"SHOW","SHOW NAME",null,null,"SPECIAL NOTE"]
[null,"ACCT #","ACCOUNT #",{"$nulls":4},"PO#","PURCHASE ORDER NUMBER",null,null,"ORDER DATE",null,"ORDER DATE"]
[null,"BILL TO ","IN SYSTEM",{"$nulls":4},"CONTACT","CONTACT",null,null,"SHIP DATE",null,"SHIP DATE"]
[{"$nulls":7},"PHONE","IN SYSTEM",null,null,"SHIP EARLY DATE",null,"SHIP EARLY DATE"]
[{"$nulls":7},"FAX","IN SYSTEM",null,null,"CANCEL DATE",null,"CANCEL DATE"]
[null,"SHIP TO","IN SYSTEM",{"$nulls":4},"SHIP","UPS GROUND",null,null,"TERMS",null,"TERMS"]
[{"$nulls":7},"EMAIL","IN SYSTEM"]
[{"$nulls":7},"CCARD","credit card name, number and exp date."]
[]
[null,"DESIGN","DESIGN NAME & ICON AND CODE",{"$nulls":4},"NOTES:","EMAIL ART FOR APPROVAL"]
[null,"LOCATION","FRONT"]
[null,"NOTES","PAIRING"]
[]
[null,"BACK",{"$nulls":5},"DETAILS:"]
[null,"L1"]
[null,"L2"]
[null,"L3"]
[null,"L4"]
[null,"L5"]
[null,"L6"]
[null,"L7"]
[null,"L8"]
[null,"L9"]
[null,"LEFT CHEST"]
[null,"L1"]
[null,"L2"]
[null,"L3"]
[null,"SLEEVE"]
[null,"STYLE","COLOR","SMALL","MEDIUM","LARGE","XLARGE","XXLARGE","OSFA","TTL QTY","UNIT PRICE","EXTENDED"]
[{"$nulls":9},{"$f":"SUM(D31:I31)","v":0},null,{"$f":"J31*K31","v":{"v":0,"d":"$0.00"}}]
[{"$nulls":9},0,null,{"$f":"J32*K32","v":{"v":0,"d":"$0.00"}}]
[{"$nulls":9},{"$f":"SUM(D33:I33)","v":0},null,{"$f":"J33*K33","v":{"v":0,"d":"$0.00"}}]
[{"$nulls":9},0,null,{"v":0,"d":"$0.00"}]
[{"$nulls":9},0,null,{"v":0,"d":"$0.00"}]
[{"$nulls":9},0,null,{"v":0,"d":"$0.00"}]
[{"$nulls":9},0,null,{"v":0,"d":"$0.00"}]
[{"$nulls":9},0,null,{"v":0,"d":"$0.00"}]
[{"$nulls":9},0,null,{"v":0,"d":"$0.00"}]
[{"$nulls":9},0,null,{"v":0,"d":"$0.00"}]
[{"$nulls":9},0,null,{"v":0,"d":"$0.00"}]
[{"$nulls":9},0,null,{"v":0,"d":"$0.00"}]
[{"$nulls":9},0,null,{"v":0,"d":"$0.00"}]
[{"$nulls":9},0,null,{"v":0,"d":"$0.00"}]
[{"$nulls":9},{"$f":"SUM(J31:J44)","v":0},null,{"$f":"SUM(L31:L44)","v":{"v":0,"d":"$0.00"}}]

{"sheet":"ORDER 18","index":18,"n_rows":45,"n_cols":14,"rows_kept":45,"merged":[[0,1,0,5],[29,11,29,13],[30,11,30,13],[31,11,31,13],[32,11,32,13],[33,11,33,13],[34,11,34,13],[35,11,35,13],[36,11,36,13],[37,11,37,13],[38,11,38,13],[39,11,39,13],[40,11,40,13],[41,11,41,13],[42,11,42,13],[43,11,43,13],[44,11,44,13]]}
[null,"OPI",{"$nulls":5},"ORDER NUMBER"]
[null,"COMPANY","COMPANY NAME",{"$nulls":4},"SHOW","SHOW NAME",null,null,"SPECIAL NOTE"]
[null,"ACCT #","ACCOUNT #",{"$nulls":4},"PO#","PURCHASE ORDER NUMBER",null,null,"ORDER DATE",null,"ORDER DATE"]
[null,"BILL TO ","IN SYSTEM",{"$nulls":4},"CONTACT","CONTACT",null,null,"SHIP DATE",null,"SHIP DATE"]
[{"$nulls":7},"PHONE","IN SYSTEM",null,null,"SHIP EARLY DATE",null,"SHIP EARLY DATE"]
[{"$nulls":7},"FAX","IN SYSTEM",null,null,"CANCEL DATE",null,"CANCEL DATE"]
[null,"SHIP TO","IN SYSTEM",{"$nulls":4},"SHIP","UPS GROUND",null,null,"TERMS",null,"TERMS"]
[{"$nulls":7},"EMAIL","IN SYSTEM"]
[{"$nulls":7},"CCARD","credit card name, number and exp date."]
[]
[null,"DESIGN","DESIGN NAME & ICON AND CODE",{"$nulls":4},"NOTES:","EMAIL ART FOR APPROVAL"]
[null,"LOCATION","FRONT"]
[null,"NOTES","PAIRING"]
[]
[null,"BACK",{"$nulls":5},"DETAILS:"]
[null,"L1"]
[null,"L2"]
[null,"L3"]
[null,"L4"]
[null,"L5"]
[null,"L6"]
[null,"L7"]
[null,"L8"]
[null,"L9"]
[null,"LEFT CHEST"]
[null,"L1"]
[null,"L2"]
[null,"L3"]
[null,"SLEEVE"]
[null,"STYLE","COLOR","SMALL","MEDIUM","LARGE","XLARGE","XXLARGE","OSFA","TTL QTY","UNIT PRICE","EXTENDED"]
[{"$nulls":9},{"$f":"SUM(D31:I31)","v":0},null,{"$f":"J31*K31","v":{"v":0,"d":"$0.00"}}]
[{"$nulls":9},0,null,{"$f":"J32*K32","v":{"v":0,"d":"$0.00"}}]
[{"$nulls":9},{"$f":"SUM(D33:I33)","v":0},null,{"$f":"J33*K33","v":{"v":0,"d":"$0.00"}}]
[{"$nulls":9},0,null,{"v":0,"d":"$0.00"}]
[{"$nulls":9},0,null,{"v":0,"d":"$0.00"}]
[{"$nulls":9},0,null,{"v":0,"d":"$0.00"}]
[{"$nulls":9},0,null,{"v":0,"d":"$0.00"}]
[{"$nulls":9},0,null,{"v":0,"d":"$0.00"}]
[{"$nulls":9},0,null,{"v":0,"d":"$0.00"}]
[{"$nulls":9},0,null,{"v":0,"d":"$0.00"}]
[{"$nulls":9},0,null,{"v":0,"d":"$0.00"}]
[{"$nulls":9},0,null,{"v":0,"d":"$0.00"}]
[{"$nulls":9},0,null,{"v":0,"d":"$0.00"}]
[{"$nulls":9},0,null,{"v":0,"d":"$0.00"}]
[{"$nulls":9},{"$f":"SUM(J31:J44)","v":0},null,{"$f":"SUM(L31:L44)","v":{"v":0,"d":"$0.00"}}]

{"sheet":"ORDER 19","index":19,"n_rows":45,"n_cols":14,"rows_kept":45,"merged":[[0,1,0,5],[29,11,29,13],[30,11,30,13],[31,11,31,13],[32,11,32,13],[33,11,33,13],[34,11,34,13],[35,11,35,13],[36,11,36,13],[37,11,37,13],[38,11,38,13],[39,11,39,13],[40,11,40,13],[41,11,41,13],[42,11,42,13],[43,11,43,13],[44,11,44,13]]}
[null,"OPI",{"$nulls":5},"ORDER NUMBER"]
[null,"COMPANY","COMPANY NAME",{"$nulls":4},"SHOW","SHOW NAME",null,null,"SPECIAL NOTE"]
[null,"ACCT #","ACCOUNT #",{"$nulls":4},"PO#","PURCHASE ORDER NUMBER",null,null,"ORDER DATE",null,"ORDER DATE"]
[null,"BILL TO ","IN SYSTEM",{"$nulls":4},"CONTACT","CONTACT",null,null,"SHIP DATE",null,"SHIP DATE"]
[{"$nulls":7},"PHONE","IN SYSTEM",null,null,"SHIP EARLY DATE",null,"SHIP EARLY DATE"]
[{"$nulls":7},"FAX","IN SYSTEM",null,null,"CANCEL DATE",null,"CANCEL DATE"]
[null,"SHIP TO","IN SYSTEM",{"$nulls":4},"SHIP","UPS GROUND",null,null,"TERMS",null,"TERMS"]
[{"$nulls":7},"EMAIL","IN SYSTEM"]
[{"$nulls":7},"CCARD","credit card name, number and exp date."]
[]
[null,"DESIGN","DESIGN NAME & ICON AND CODE",{"$nulls":4},"NOTES:","EMAIL ART FOR APPROVAL"]
[null,"LOCATION","FRONT"]
[null,"NOTES","PAIRING"]
[]
[null,"BACK",{"$nulls":5},"DETAILS:"]
[null,"L1"]
[null,"L2"]
[null,"L3"]
[null,"L4"]
[null,"L5"]
[null,"L6"]
[null,"L7"]
[null,"L8"]
[null,"L9"]
[null,"LEFT CHEST"]
[null,"L1"]
[null,"L2"]
[null,"L3"]
[null,"SLEEVE"]
[null,"STYLE","COLOR","SMALL","MEDIUM","LARGE","XLARGE","XXLARGE","OSFA","TTL QTY","UNIT PRICE","EXTENDED"]
[{"$nulls":9},{"$f":"SUM(D31:I31)","v":0},null,{"$f":"J31*K31","v":{"v":0,"d":"$0.00"}}]
[{"$nulls":9},0,null,{"$f":"J32*K32","v":{"v":0,"d":"$0.00"}}]
[{"$nulls":9},{"$f":"SUM(D33:I33)","v":0},null,{"$f":"J33*K33","v":{"v":0,"d":"$0.00"}}]
[{"$nulls":9},0,null,{"v":0,"d":"$0.00"}]
[{"$nulls":9},0,null,{"v":0,"d":"$0.00"}]
[{"$nulls":9},0,null,{"v":0,"d":"$0.00"}]
[{"$nulls":9},0,null,{"v":0,"d":"$0.00"}]
[{"$nulls":9},0,null,{"v":0,"d":"$0.00"}]
[{"$nulls":9},0,null,{"v":0,"d":"$0.00"}]
[{"$nulls":9},0,null,{"v":0,"d":"$0.00"}]
[{"$nulls":9},0,null,{"v":0,"d":"$0.00"}]
[{"$nulls":9},0,null,{"v":0,"d":"$0.00"}]
[{"$nulls":9},0,null,{"v":0,"d":"$0.00"}]
[{"$nulls":9},0,null,{"v":0,"d":"$0.00"}]
[{"$nulls":9},{"$f":"SUM(J31:J44)","v":0},null,{"$f":"SUM(L31:L44)","v":{"v":0,"d":"$0.00"}}]

{"sheet":"ORDER 20","index":20,"n_rows":45,"n_cols":14,"rows_kept":45,"merged":[[0,1,0,5],[29,11,29,13],[30,11,30,13],[31,11,31,13],[32,11,32,13],[33,11,33,13],[34,11,34,13],[35,11,35,13],[36,11,36,13],[37,11,37,13],[38,11,38,13],[39,11,39,13],[40,11,40,13],[41,11,41,13],[42,11,42,13],[43,11,43,13],[44,11,44,13]]}
[null,"OPI",{"$nulls":5},"ORDER NUMBER"]
[null,"COMPANY","COMPANY NAME",{"$nulls":4},"SHOW","SHOW NAME",null,null,"SPECIAL NOTE"]
[null,"ACCT #","ACCOUNT #",{"$nulls":4},"PO#","PURCHASE ORDER NUMBER",null,null,"ORDER DATE",null,"ORDER DATE"]
[null,"BILL TO ","IN SYSTEM",{"$nulls":4},"CONTACT","CONTACT",null,null,"SHIP DATE",null,"SHIP DATE"]
[{"$nulls":7},"PHONE","IN SYSTEM",null,null,"SHIP EARLY DATE",null,"SHIP EARLY DATE"]
[{"$nulls":7},"FAX","IN SYSTEM",null,null,"CANCEL DATE",null,"CANCEL DATE"]
[null,"SHIP TO","IN SYSTEM",{"$nulls":4},"SHIP","UPS GROUND",null,null,"TERMS",null,"TERMS"]
[{"$nulls":7},"EMAIL","IN SYSTEM"]
[{"$nulls":7},"CCARD","credit card name, number and exp date."]
[]
[null,"DESIGN","DESIGN NAME & ICON AND CODE",{"$nulls":4},"NOTES:","EMAIL ART FOR APPROVAL"]
[null,"LOCATION","FRONT"]
[null,"NOTES","PAIRING"]
[]
[null,"BACK",{"$nulls":5},"DETAILS:"]
[null,"L1"]
[null,"L2"]
[null,"L3"]
[null,"L4"]
[null,"L5"]
[null,"L6"]
[null,"L7"]
[null,"L8"]
[null,"L9"]
[null,"LEFT CHEST"]
[null,"L1"]
[null,"L2"]
[null,"L3"]
[null,"SLEEVE"]
[null,"STYLE","COLOR","SMALL","MEDIUM","LARGE","XLARGE","XXLARGE","OSFA","TTL QTY","UNIT PRICE","EXTENDED"]
[{"$nulls":9},{"$f":"SUM(D31:I31)","v":0},null,{"$f":"J31*K31","v":{"v":0,"d":"$0.00"}}]
[{"$nulls":9},0,null,{"$f":"J32*K32","v":{"v":0,"d":"$0.00"}}]
[{"$nulls":9},{"$f":"SUM(D33:I33)","v":0},null,{"$f":"J33*K33","v":{"v":0,"d":"$0.00"}}]
[{"$nulls":9},0,null,{"v":0,"d":"$0.00"}]
[{"$nulls":9},0,null,{"v":0,"d":"$0.00"}]
[{"$nulls":9},0,null,{"v":0,"d":"$0.00"}]
[{"$nulls":9},0,null,{"v":0,"d":"$0.00"}]
[{"$nulls":9},0,null,{"v":0,"d":"$0.00"}]
[{"$nulls":9},0,null,{"v":0,"d":"$0.00"}]
[{"$nulls":9},0,null,{"v":0,"d":"$0.00"}]
[{"$nulls":9},0,null,{"v":0,"d":"$0.00"}]
[{"$nulls":9},0,null,{"v":0,"d":"$0.00"}]
[{"$nulls":9},0,null,{"v":0,"d":"$0.00"}]
[{"$nulls":9},0,null,{"v":0,"d":"$0.00"}]
[{"$nulls":9},{"$f":"SUM(J31:J44)","v":0},null,{"$f":"SUM(L31:L44)","v":{"v":0,"d":"$0.00"}}]

{"sheet":"ORDER 21","index":21,"n_rows":45,"n_cols":14,"rows_kept":45,"merged":[[0,1,0,5],[29,11,29,13],[30,11,30,13],[31,11,31,13],[32,11,32,13],[33,11,33,13],[34,11,34,13],[35,11,35,13],[36,11,36,13],[37,11,37,13],[38,11,38,13],[39,11,39,13],[40,11,40,13],[41,11,41,13],[42,11,42,13],[43,11,43,13],[44,11,44,13]]}
[null,"OPI",{"$nulls":5},"ORDER NUMBER"]
[null,"COMPANY","COMPANY NAME",{"$nulls":4},"SHOW","SHOW NAME",null,null,"SPECIAL NOTE"]
[null,"ACCT #","ACCOUNT #",{"$nulls":4},"PO#","PURCHASE ORDER NUMBER",null,null,"ORDER DATE",null,"ORDER DATE"]
[null,"BILL TO ","IN SYSTEM",{"$nulls":4},"CONTACT","CONTACT",null,null,"SHIP DATE",null,"SHIP DATE"]
[{"$nulls":7},"PHONE","IN SYSTEM",null,null,"SHIP EARLY DATE",null,"SHIP EARLY DATE"]
[{"$nulls":7},"FAX","IN SYSTEM",null,null,"CANCEL DATE",null,"CANCEL DATE"]
[null,"SHIP TO","IN SYSTEM",{"$nulls":4},"SHIP","UPS GROUND",null,null,"TERMS",null,"TERMS"]
[{"$nulls":7},"EMAIL","IN SYSTEM"]
[{"$nulls":7},"CCARD","credit card name, number and exp date."]
[]
[null,"DESIGN","DESIGN NAME & ICON AND CODE",{"$nulls":4},"NOTES:","EMAIL ART FOR APPROVAL"]
[null,"LOCATION","FRONT"]
[null,"NOTES","PAIRING"]
[]
[null,"BACK",{"$nulls":5},"DETAILS:"]
[null,"L1"]
[null,"L2"]
[null,"L3"]
[null,"L4"]
[null,"L5"]
[null,"L6"]
[null,"L7"]
[null,"L8"]
[null,"L9"]
[null,"LEFT CHEST"]
[null,"L1"]
[null,"L2"]
[null,"L3"]
[null,"SLEEVE"]
[null,"STYLE","COLOR","SMALL","MEDIUM","LARGE","XLARGE","XXLARGE","OSFA","TTL QTY","UNIT PRICE","EXTENDED"]
[{"$nulls":9},{"$f":"SUM(D31:I31)","v":0},null,{"$f":"J31*K31","v":{"v":0,"d":"$0.00"}}]
[{"$nulls":9},0,null,{"$f":"J32*K32","v":{"v":0,"d":"$0.00"}}]
[{"$nulls":9},{"$f":"SUM(D33:I33)","v":0},null,{"$f":"J33*K33","v":{"v":0,"d":"$0.00"}}]
[{"$nulls":9},0,null,{"v":0,"d":"$0.00"}]
[{"$nulls":9},0,null,{"v":0,"d":"$0.00"}]
[{"$nulls":9},0,null,{"v":0,"d":"$0.00"}]
[{"$nulls":9},0,null,{"v":0,"d":"$0.00"}]
[{"$nulls":9},0,null,{"v":0,"d":"$0.00"}]
[{"$nulls":9},0,null,{"v":0,"d":"$0.00"}]
[{"$nulls":9},0,null,{"v":0,"d":"$0.00"}]
[{"$nulls":9},0,null,{"v":0,"d":"$0.00"}]
[{"$nulls":9},0,null,{"v":0,"d":"$0.00"}]
[{"$nulls":9},0,null,{"v":0,"d":"$0.00"}]
[{"$nulls":9},0,null,{"v":0,"d":"$0.00"}]
[{"$nulls":9},{"$f":"SUM(J31:J44)","v":0},null,{"$f":"SUM(L31:L44)","v":{"v":0,"d":"$0.00"}}]

{"sheet":"ORDER 22","index":22,"n_rows":45,"n_cols":14,"rows_kept":45,"merged":[[0,1,0,5],[29,11,29,13],[30,11,30,13],[31,11,31,13],[32,11,32,13],[33,11,33,13],[34,11,34,13],[35,11,35,13],[36,11,36,13],[37,11,37,13],[38,11,38,13],[39,11,39,13],[40,11,40,13],[41,11,41,13],[42,11,42,13],[43,11,43,13],[44,11,44,13]]}
[null,"OPI",{"$nulls":5},"ORDER NUMBER"]
[null,"COMPANY","COMPANY NAME",{"$nulls":4},"SHOW","SHOW NAME",null,null,"SPECIAL NOTE"]
[null,"ACCT #","ACCOUNT #",{"$nulls":4},"PO#","PURCHASE ORDER NUMBER",null,null,"ORDER DATE",null,"ORDER DATE"]
[null,"BILL TO ","IN SYSTEM",{"$nulls":4},"CONTACT","CONTACT",null,null,"SHIP DATE",null,"SHIP DATE"]
[{"$nulls":7},"PHONE","IN SYSTEM",null,null,"SHIP EARLY DATE",null,"SHIP EARLY DATE"]
[{"$nulls":7},"FAX","IN SYSTEM",null,null,"CANCEL DATE",null,"CANCEL DATE"]
[null,"SHIP TO","IN SYSTEM",{"$nulls":4},"SHIP","UPS GROUND",null,null,"TERMS",null,"TERMS"]
[{"$nulls":7},"EMAIL","IN SYSTEM"]
[{"$nulls":7},"CCARD","credit card name, number and exp date."]
[]
[null,"DESIGN","DESIGN NAME & ICON AND CODE",{"$nulls":4},"NOTES:","EMAIL ART FOR APPROVAL"]
[null,"LOCATION","FRONT"]
[null,"NOTES","PAIRING"]
[]
[null,"BACK",{"$nulls":5},"DETAILS:"]
[null,"L1"]
[null,"L2"]
[null,"L3"]
[null,"L4"]
[null,"L5"]
[null,"L6"]
[null,"L7"]
[null,"L8"]
[null,"L9"]
[null,"LEFT CHEST"]
[null,"L1"]
[null,"L2"]
[null,"L3"]
[null,"SLEEVE"]
[null,"STYLE","COLOR","SMALL","MEDIUM","LARGE","XLARGE","XXLARGE","OSFA","TTL QTY","UNIT PRICE","EXTENDED"]
[{"$nulls":9},{"$f":"SUM(D31:I31)","v":0},null,{"$f":"J31*K31","v":{"v":0,"d":"$0.00"}}]
[{"$nulls":9},0,null,{"$f":"J32*K32","v":{"v":0,"d":"$0.00"}}]
[{"$nulls":9},{"$f":"SUM(D33:I33)","v":0},null,{"$f":"J33*K33","v":{"v":0,"d":"$0.00"}}]
[{"$nulls":9},0,null,{"v":0,"d":"$0.00"}]
[{"$nulls":9},0,null,{"v":0,"d":"$0.00"}]
[{"$nulls":9},0,null,{"v":0,"d":"$0.00"}]
[{"$nulls":9},0,null,{"v":0,"d":"$0.00"}]
[{"$nulls":9},0,null,{"v":0,"d":"$0.00"}]
[{"$nulls":9},0,null,{"v":0,"d":"$0.00"}]
[{"$nulls":9},0,null,{"v":0,"d":"$0.00"}]
[{"$nulls":9},0,null,{"v":0,"d":"$0.00"}]
[{"$nulls":9},0,null,{"v":0,"d":"$0.00"}]
[{"$nulls":9},0,null,{"v":0,"d":"$0.00"}]
[{"$nulls":9},0,null,{"v":0,"d":"$0.00"}]
[{"$nulls":9},{"$f":"SUM(J31:J44)","v":0},null,{"$f":"SUM(L31:L44)","v":{"v":0,"d":"$0.00"}}]

{"sheet":"ORDER 23","index":23,"n_rows":45,"n_cols":14,"rows_kept":45,"merged":[[0,1,0,5],[29,11,29,13],[30,11,30,13],[31,11,31,13],[32,11,32,13],[33,11,33,13],[34,11,34,13],[35,11,35,13],[36,11,36,13],[37,11,37,13],[38,11,38,13],[39,11,39,13],[40,11,40,13],[41,11,41,13],[42,11,42,13],[43,11,43,13],[44,11,44,13]]}
[null,"OPI",{"$nulls":5},"ORDER NUMBER"]
[null,"COMPANY","COMPANY NAME",{"$nulls":4},"SHOW","SHOW NAME",null,null,"SPECIAL NOTE"]
[null,"ACCT #","ACCOUNT #",{"$nulls":4},"PO#","PURCHASE ORDER NUMBER",null,null,"ORDER DATE",null,"ORDER DATE"]
[null,"BILL TO ","IN SYSTEM",{"$nulls":4},"CONTACT","CONTACT",null,null,"SHIP DATE",null,"SHIP DATE"]
[{"$nulls":7},"PHONE","IN SYSTEM",null,null,"SHIP EARLY DATE",null,"SHIP EARLY DATE"]
[{"$nulls":7},"FAX","IN SYSTEM",null,null,"CANCEL DATE",null,"CANCEL DATE"]
[null,"SHIP TO","IN SYSTEM",{"$nulls":4},"SHIP","UPS GROUND",null,null,"TERMS",null,"TERMS"]
[{"$nulls":7},"EMAIL","IN SYSTEM"]
[{"$nulls":7},"CCARD","credit card name, number and exp date."]
[]
[null,"DESIGN","DESIGN NAME & ICON AND CODE",{"$nulls":4},"NOTES:","EMAIL ART FOR APPROVAL"]
[null,"LOCATION","FRONT"]
[null,"NOTES","PAIRING"]
[]
[null,"BACK",{"$nulls":5},"DETAILS:"]
[null,"L1"]
[null,"L2"]
[null,"L3"]
[null,"L4"]
[null,"L5"]
[null,"L6"]
[null,"L7"]
[null,"L8"]
[null,"L9"]
[null,"LEFT CHEST"]
[null,"L1"]
[null,"L2"]
[null,"L3"]
[null,"SLEEVE"]
[null,"STYLE","COLOR","SMALL","MEDIUM","LARGE","XLARGE","XXLARGE","OSFA","TTL QTY","UNIT PRICE","EXTENDED"]
[{"$nulls":9},{"$f":"SUM(D31:I31)","v":0},null,{"$f":"J31*K31","v":{"v":0,"d":"$0.00"}}]
[{"$nulls":9},0,null,{"$f":"J32*K32","v":{"v":0,"d":"$0.00"}}]
[{"$nulls":9},{"$f":"SUM(D33:I33)","v":0},null,{"$f":"J33*K33","v":{"v":0,"d":"$0.00"}}]
[{"$nulls":9},0,null,{"v":0,"d":"$0.00"}]
[{"$nulls":9},0,null,{"v":0,"d":"$0.00"}]
[{"$nulls":9},0,null,{"v":0,"d":"$0.00"}]
[{"$nulls":9},0,null,{"v":0,"d":"$0.00"}]
[{"$nulls":9},0,null,{"v":0,"d":"$0.00"}]
[{"$nulls":9},0,null,{"v":0,"d":"$0.00"}]
[{"$nulls":9},0,null,{"v":0,"d":"$0.00"}]
[{"$nulls":9},0,null,{"v":0,"d":"$0.00"}]
[{"$nulls":9},0,null,{"v":0,"d":"$0.00"}]
[{"$nulls":9},0,null,{"v":0,"d":"$0.00"}]
[{"$nulls":9},0,null,{"v":0,"d":"$0.00"}]
[{"$nulls":9},{"$f":"SUM(J31:J44)","v":0},null,{"$f":"SUM(L31:L44)","v":{"v":0,"d":"$0.00"}}]

{"sheet":"ORDER 24","index":24,"n_rows":45,"n_cols":14,"rows_kept":45,"merged":[[0,1,0,5],[29,11,29,13],[30,11,30,13],[31,11,31,13],[32,11,32,13],[33,11,33,13],[34,11,34,13],[35,11,35,13],[36,11,36,13],[37,11,37,13],[38,11,38,13],[39,11,39,13],[40,11,40,13],[41,11,41,13],[42,11,42,13],[43,11,43,13],[44,11,44,13]]}
[null,"OPI",{"$nulls":5},"ORDER NUMBER"]
[null,"COMPANY","COMPANY NAME",{"$nulls":4},"SHOW","SHOW NAME",null,null,"SPECIAL NOTE"]
[null,"ACCT #","ACCOUNT #",{"$nulls":4},"PO#","PURCHASE ORDER NUMBER",null,null,"ORDER DATE",null,"ORDER DATE"]
[null,"BILL TO ","IN SYSTEM",{"$nulls":4},"CONTACT","CONTACT",null,null,"SHIP DATE",null,"SHIP DATE"]
[{"$nulls":7},"PHONE","IN SYSTEM",null,null,"SHIP EARLY DATE",null,"SHIP EARLY DATE"]
[{"$nulls":7},"FAX","IN SYSTEM",null,null,"CANCEL DATE",null,"CANCEL DATE"]
[null,"SHIP TO","IN SYSTEM",{"$nulls":4},"SHIP","UPS GROUND",null,null,"TERMS",null,"TERMS"]
[{"$nulls":7},"EMAIL","IN SYSTEM"]
[{"$nulls":7},"CCARD","credit card name, number and exp date."]
[]
[null,"DESIGN","DESIGN NAME & ICON AND CODE",{"$nulls":4},"NOTES:","EMAIL ART FOR APPROVAL"]
[null,"LOCATION","FRONT"]
[null,"NOTES","PAIRING"]
[]
[null,"BACK",{"$nulls":5},"DETAILS:"]
[null,"L1"]
[null,"L2"]
[null,"L3"]
[null,"L4"]
[null,"L5"]
[null,"L6"]
[null,"L7"]
[null,"L8"]
[null,"L9"]
[null,"LEFT CHEST"]
[null,"L1"]
[null,"L2"]
[null,"L3"]
[null,"SLEEVE"]
[null,"STYLE","COLOR","SMALL","MEDIUM","LARGE","XLARGE","XXLARGE","OSFA","TTL QTY","UNIT PRICE","EXTENDED"]
[{"$nulls":9},{"$f":"SUM(D31:I31)","v":0},null,{"$f":"J31*K31","v":{"v":0,"d":"$0.00"}}]
[{"$nulls":9},0,null,{"$f":"J32*K32","v":{"v":0,"d":"$0.00"}}]
[{"$nulls":9},{"$f":"SUM(D33:I33)","v":0},null,{"$f":"J33*K33","v":{"v":0,"d":"$0.00"}}]
[{"$nulls":9},0,null,{"v":0,"d":"$0.00"}]
[{"$nulls":9},0,null,{"v":0,"d":"$0.00"}]
[{"$nulls":9},0,null,{"v":0,"d":"$0.00"}]
[{"$nulls":9},0,null,{"v":0,"d":"$0.00"}]
[{"$nulls":9},0,null,{"v":0,"d":"$0.00"}]
[{"$nulls":9},0,null,{"v":0,"d":"$0.00"}]
[{"$nulls":9},0,null,{"v":0,"d":"$0.00"}]
[{"$nulls":9},0,null,{"v":0,"d":"$0.00"}]
[{"$nulls":9},0,null,{"v":0,"d":"$0.00"}]
[{"$nulls":9},0,null,{"v":0,"d":"$0.00"}]
[{"$nulls":9},0,null,{"v":0,"d":"$0.00"}]
[{"$nulls":9},{"$f":"SUM(J31:J44)","v":0},null,{"$f":"SUM(L31:L44)","v":{"v":0,"d":"$0.00"}}]

{"sheet":"ORDER 25","index":25,"n_rows":45,"n_cols":14,"rows_kept":45,"merged":[[0,1,0,5],[29,11,29,13],[30,11,30,13],[31,11,31,13],[32,11,32,13],[33,11,33,13],[34,11,34,13],[35,11,35,13],[36,11,36,13],[37,11,37,13],[38,11,38,13],[39,11,39,13],[40,11,40,13],[41,11,41,13],[42,11,42,13],[43,11,43,13],[44,11,44,13]]}
[null,"OPI",{"$nulls":5},"ORDER NUMBER"]
[null,"COMPANY","COMPANY NAME",{"$nulls":4},"SHOW","SHOW NAME",null,null,"SPECIAL NOTE"]
[null,"ACCT #","ACCOUNT #",{"$nulls":4},"PO#","PURCHASE ORDER NUMBER",null,null,"ORDER DATE",null,"ORDER DATE"]
[null,"BILL TO ","IN SYSTEM",{"$nulls":4},"CONTACT","CONTACT",null,null,"SHIP DATE",null,"SHIP DATE"]
[{"$nulls":7},"PHONE","IN SYSTEM",null,null,"SHIP EARLY DATE",null,"SHIP EARLY DATE"]
[{"$nulls":7},"FAX","IN SYSTEM",null,null,"CANCEL DATE",null,"CANCEL DATE"]
[null,"SHIP TO","IN SYSTEM",{"$nulls":4},"SHIP","UPS GROUND",null,null,"TERMS",null,"TERMS"]
[{"$nulls":7},"EMAIL","IN SYSTEM"]
[{"$nulls":7},"CCARD","credit card name, number and exp date."]
[]
[null,"DESIGN","DESIGN NAME & ICON AND CODE",{"$nulls":4},"NOTES:","EMAIL ART FOR APPROVAL"]
[null,"LOCATION","FRONT"]
[null,"NOTES","PAIRING"]
[]
[null,"BACK",{"$nulls":5},"DETAILS:"]
[null,"L1"]
[null,"L2"]
[null,"L3"]
[null,"L4"]
[null,"L5"]
[null,"L6"]
[null,"L7"]
[null,"L8"]
[null,"L9"]
[null,"LEFT CHEST"]
[null,"L1"]
[null,"L2"]
[null,"L3"]
[null,"SLEEVE"]
[null,"STYLE","COLOR","SMALL","MEDIUM","LARGE","XLARGE","XXLARGE","OSFA","TTL QTY","UNIT PRICE","EXTENDED"]
[{"$nulls":9},{"$f":"SUM(D31:I31)","v":0},null,{"$f":"J31*K31","v":{"v":0,"d":"$0.00"}}]
[{"$nulls":9},0,null,{"$f":"J32*K32","v":{"v":0,"d":"$0.00"}}]
[{"$nulls":9},{"$f":"SUM(D33:I33)","v":0},null,{"$f":"J33*K33","v":{"v":0,"d":"$0.00"}}]
[{"$nulls":9},0,null,{"v":0,"d":"$0.00"}]
[{"$nulls":9},0,null,{"v":0,"d":"$0.00"}]
[{"$nulls":9},0,null,{"v":0,"d":"$0.00"}]
[{"$nulls":9},0,null,{"v":0,"d":"$0.00"}]
[{"$nulls":9},0,null,{"v":0,"d":"$0.00"}]
[{"$nulls":9},0,null,{"v":0,"d":"$0.00"}]
[{"$nulls":9},0,null,{"v":0,"d":"$0.00"}]
[{"$nulls":9},0,null,{"v":0,"d":"$0.00"}]
[{"$nulls":9},0,null,{"v":0,"d":"$0.00"}]
[{"$nulls":9},0,null,{"v":0,"d":"$0.00"}]
[{"$nulls":9},0,null,{"v":0,"d":"$0.00"}]
[{"$nulls":9},{"$f":"SUM(J31:J44)","v":0},null,{"$f":"SUM(L31:L44)","v":{"v":0,"d":"$0.00"}}]

{"sheet":"ORDER 26","index":26,"n_rows":45,"n_cols":14,"rows_kept":45,"merged":[[0,1,0,5],[29,11,29,13],[30,11,30,13],[31,11,31,13],[32,11,32,13],[33,11,33,13],[34,11,34,13],[35,11,35,13],[36,11,36,13],[37,11,37,13],[38,11,38,13],[39,11,39,13],[40,11,40,13],[41,11,41,13],[42,11,42,13],[43,11,43,13],[44,11,44,13]]}
[null,"OPI",{"$nulls":5},"ORDER NUMBER"]
[null,"COMPANY","COMPANY NAME",{"$nulls":4},"SHOW","SHOW NAME",null,null,"SPECIAL NOTE"]
[null,"ACCT #","ACCOUNT #",{"$nulls":4},"PO#","PURCHASE ORDER NUMBER",null,null,"ORDER DATE",null,"ORDER DATE"]
[null,"BILL TO ","IN SYSTEM",{"$nulls":4},"CONTACT","CONTACT",null,null,"SHIP DATE",null,"SHIP DATE"]
[{"$nulls":7},"PHONE","IN SYSTEM",null,null,"SHIP EARLY DATE",null,"SHIP EARLY DATE"]
[{"$nulls":7},"FAX","IN SYSTEM",null,null,"CANCEL DATE",null,"CANCEL DATE"]
[null,"SHIP TO","IN SYSTEM",{"$nulls":4},"SHIP","UPS GROUND",null,null,"TERMS",null,"TERMS"]
[{"$nulls":7},"EMAIL","IN SYSTEM"]
[{"$nulls":7},"CCARD","credit card name, number and exp date."]
[]
[null,"DESIGN","DESIGN NAME & ICON AND CODE",{"$nulls":4},"NOTES:","EMAIL ART FOR APPROVAL"]
[null,"LOCATION","FRONT"]
[null,"NOTES","PAIRING"]
[]
[null,"BACK",{"$nulls":5},"DETAILS:"]
[null,"L1"]
[null,"L2"]
[null,"L3"]
[null,"L4"]
[null,"L5"]
[null,"L6"]
[null,"L7"]
[null,"L8"]
[null,"L9"]
[null,"LEFT CHEST"]
[null,"L1"]
[null,"L2"]
[null,"L3"]
[null,"SLEEVE"]
[null,"STYLE","COLOR","SMALL","MEDIUM","LARGE","XLARGE","XXLARGE","OSFA","TTL QTY","UNIT PRICE","EXTENDED"]
[{"$nulls":9},{"$f":"SUM(D31:I31)","v":0},null,{"$f":"J31*K31","v":{"v":0,"d":"$0.00"}}]
[{"$nulls":9},0,null,{"$f":"J32*K32","v":{"v":0,"d":"$0.00"}}]
[{"$nulls":9},{"$f":"SUM(D33:I33)","v":0},null,{"$f":"J33*K33","v":{"v":0,"d":"$0.00"}}]
[{"$nulls":9},0,null,{"v":0,"d":"$0.00"}]
[{"$nulls":9},0,null,{"v":0,"d":"$0.00"}]
[{"$nulls":9},0,null,{"v":0,"d":"$0.00"}]
[{"$nulls":9},0,null,{"v":0,"d":"$0.00"}]
[{"$nulls":9},0,null,{"v":0,"d":"$0.00"}]
[{"$nulls":9},0,null,{"v":0,"d":"$0.00"}]
[{"$nulls":9},0,null,{"v":0,"d":"$0.00"}]
[{"$nulls":9},0,null,{"v":0,"d":"$0.00"}]
[{"$nulls":9},0,null,{"v":0,"d":"$0.00"}]
[{"$nulls":9},0,null,{"v":0,"d":"$0.00"}]
[{"$nulls":9},0,null,{"v":0,"d":"$0.00"}]
[{"$nulls":9},{"$f":"SUM(J31:J44)","v":0},null,{"$f":"SUM(L31:L44)","v":{"v":0,"d":"$0.00"}}]

{"sheet":"ORDER 27","index":27,"n_rows":45,"n_cols":14,"rows_kept":45,"merged":[[0,1,0,5],[29,11,29,13],[30,11,30,13],[31,11,31,13],[32,11,32,13],[33,11,33,13],[34,11,34,13],[35,11,35,13],[36,11,36,13],[37,11,37,13],[38,11,38,13],[39,11,39,13],[40,11,40,13],[41,11,41,13],[42,11,42,13],[43,11,43,13],[44,11,44,13]]}
[null,"OPI",{"$nulls":5},"ORDER NUMBER"]
[null,"COMPANY","COMPANY NAME",{"$nulls":4},"SHOW","SHOW NAME",null,null,"SPECIAL NOTE"]
[null,"ACCT #","ACCOUNT #",{"$nulls":4},"PO#","PURCHASE ORDER NUMBER",null,null,"ORDER DATE",null,"ORDER DATE"]
[null,"BILL TO ","IN SYSTEM",{"$nulls":4},"CONTACT","CONTACT",null,null,"SHIP DATE",null,"SHIP DATE"]
[{"$nulls":7},"PHONE","IN SYSTEM",null,null,"SHIP EARLY DATE",null,"SHIP EARLY DATE"]
[{"$nulls":7},"FAX","IN SYSTEM",null,null,"CANCEL DATE",null,"CANCEL DATE"]
[null,"SHIP TO","IN SYSTEM",{"$nulls":4},"SHIP","UPS GROUND",null,null,"TERMS",null,"TERMS"]
[{"$nulls":7},"EMAIL","IN SYSTEM"]
[{"$nulls":7},"CCARD","credit card name, number and exp date."]
[]
[null,"DESIGN","DESIGN NAME & ICON AND CODE",{"$nulls":4},"NOTES:","EMAIL ART FOR APPROVAL"]
[null,"LOCATION","FRONT"]
[null,"NOTES","PAIRING"]
[]
[null,"BACK",{"$nulls":5},"DETAILS:"]
[null,"L1"]
[null,"L2"]
[null,"L3"]
[null,"L4"]
[null,"L5"]
[null,"L6"]
[null,"L7"]
[null,"L8"]
[null,"L9"]
[null,"LEFT CHEST"]
[null,"L1"]
[null,"L2"]
[null,"L3"]
[null,"SLEEVE"]
[null,"STYLE","COLOR","SMALL","MEDIUM","LARGE","XLARGE","XXLARGE","OSFA","TTL QTY","UNIT PRICE","EXTENDED"]
[{"$nulls":9},{"$f":"SUM(D31:I31)","v":0},null,{"$f":"J31*K31","v":{"v":0,"d":"$0.00"}}]
[{"$nulls":9},0,null,{"$f":"J32*K32","v":{"v":0,"d":"$0.00"}}]
[{"$nulls":9},{"$f":"SUM(D33:I33)","v":0},null,{"$f":"J33*K33","v":{"v":0,"d":"$0.00"}}]
[{"$nulls":9},0,null,{"v":0,"d":"$0.00"}]
[{"$nulls":9},0,null,{"v":0,"d":"$0.00"}]
[{"$nulls":9},0,null,{"v":0,"d":"$0.00"}]
[{"$nulls":9},0,null,{"v":0,"d":"$0.00"}]
[{"$nulls":9},0,null,{"v":0,"d":"$0.00"}]
[{"$nulls":9},0,null,{"v":0,"d":"$0.00"}]
[{"$nulls":9},0,null,{"v":0,"d":"$0.00"}]
[{"$nulls":9},0,null,{"v":0,"d":"$0.00"}]
[{"$nulls":9},0,null,{"v":0,"d":"$0.00"}]
[{"$nulls":9},0,null,{"v":0,"d":"$0.00"}]
[{"$nulls":9},0,null,{"v":0,"d":"$0.00"}]
[{"$nulls":9},{"$f":"SUM(J31:J44)","v":0},null,{"$f":"SUM(L31:L44)","v":{"v":0,"d":"$0.00"}}]

{"sheet":"ORDER 28","index":28,"n_rows":45,"n_cols":14,"rows_kept":45,"merged":[[0,1,0,5],[29,11,29,13],[30,11,30,13],[31,11,31,13],[32,11,32,13],[33,11,33,13],[34,11,34,13],[35,11,35,13],[36,11,36,13],[37,11,37,13],[38,11,38,13],[39,11,39,13],[40,11,40,13],[41,11,41,13],[42,11,42,13],[43,11,43,13],[44,11,44,13]]}
[null,"OPI",{"$nulls":5},"ORDER NUMBER"]
[null,"COMPANY","COMPANY NAME",{"$nulls":4},"SHOW","SHOW NAME",null,null,"SPECIAL NOTE"]
[null,"ACCT #","ACCOUNT #",{"$nulls":4},"PO#","PURCHASE ORDER NUMBER",null,null,"ORDER DATE",null,"ORDER DATE"]
[null,"BILL TO ","IN SYSTEM",{"$nulls":4},"CONTACT","CONTACT",null,null,"SHIP DATE",null,"SHIP DATE"]
[{"$nulls":7},"PHONE","IN SYSTEM",null,null,"SHIP EARLY DATE",null,"SHIP EARLY DATE"]
[{"$nulls":7},"FAX","IN SYSTEM",null,null,"CANCEL DATE",null,"CANCEL DATE"]
[null,"SHIP TO","IN SYSTEM",{"$nulls":4},"SHIP","UPS GROUND",null,null,"TERMS",null,"TERMS"]
[{"$nulls":7},"EMAIL","IN SYSTEM"]
[{"$nulls":7},"CCARD","credit card name, number and exp date."]
[]
[null,"DESIGN","DESIGN NAME & ICON AND CODE",{"$nulls":4},"NOTES:","EMAIL ART FOR APPROVAL"]
[null,"LOCATION","FRONT"]
[null,"NOTES","PAIRING"]
[]
[null,"BACK",{"$nulls":5},"DETAILS:"]
[null,"L1"]
[null,"L2"]
[null,"L3"]
[null,"L4"]
[null,"L5"]
[null,"L6"]
[null,"L7"]
[null,"L8"]
[null,"L9"]
[null,"LEFT CHEST"]
[null,"L1"]
[null,"L2"]
[null,"L3"]
[null,"SLEEVE"]
[null,"STYLE","COLOR","SMALL","MEDIUM","LARGE","XLARGE","XXLARGE","OSFA","TTL QTY","UNIT PRICE","EXTENDED"]
[{"$nulls":9},{"$f":"SUM(D31:I31)","v":0},null,{"$f":"J31*K31","v":{"v":0,"d":"$0.00"}}]
[{"$nulls":9},0,null,{"$f":"J32*K32","v":{"v":0,"d":"$0.00"}}]
[{"$nulls":9},{"$f":"SUM(D33:I33)","v":0},null,{"$f":"J33*K33","v":{"v":0,"d":"$0.00"}}]
[{"$nulls":9},0,null,{"v":0,"d":"$0.00"}]
[{"$nulls":9},0,null,{"v":0,"d":"$0.00"}]
[{"$nulls":9},0,null,{"v":0,"d":"$0.00"}]
[{"$nulls":9},0,null,{"v":0,"d":"$0.00"}]
[{"$nulls":9},0,null,{"v":0,"d":"$0.00"}]
[{"$nulls":9},0,null,{"v":0,"d":"$0.00"}]
[{"$nulls":9},0,null,{"v":0,"d":"$0.00"}]
[{"$nulls":9},0,null,{"v":0,"d":"$0.00"}]
[{"$nulls":9},0,null,{"v":0,"d":"$0.00"}]
[{"$nulls":9},0,null,{"v":0,"d":"$0.00"}]
[{"$nulls":9},0,null,{"v":0,"d":"$0.00"}]
[{"$nulls":9},{"$f":"SUM(J31:J44)","v":0},null,{"$f":"SUM(L31:L44)","v":{"v":0,"d":"$0.00"}}]

{"sheet":"ORDER 29","index":29,"n_rows":45,"n_cols":14,"rows_kept":45,"merged":[[0,1,0,5],[29,11,29,13],[30,11,30,13],[31,11,31,13],[32,11,32,13],[33,11,33,13],[34,11,34,13],[35,11,35,13],[36,11,36,13],[37,11,37,13],[38,11,38,13],[39,11,39,13],[40,11,40,13],[41,11,41,13],[42,11,42,13],[43,11,43,13],[44,11,44,13]]}
[null,"OPI",{"$nulls":5},"ORDER NUMBER"]
[null,"COMPANY","COMPANY NAME",{"$nulls":4},"SHOW","SHOW NAME",null,null,"SPECIAL NOTE"]
[null,"ACCT #","ACCOUNT #",{"$nulls":4},"PO#","PURCHASE ORDER NUMBER",null,null,"ORDER DATE",null,"ORDER DATE"]
[null,"BILL TO ","IN SYSTEM",{"$nulls":4},"CONTACT","CONTACT",null,null,"SHIP DATE",null,"SHIP DATE"]
[{"$nulls":7},"PHONE","IN SYSTEM",null,null,"SHIP EARLY DATE",null,"SHIP EARLY DATE"]
[{"$nulls":7},"FAX","IN SYSTEM",null,null,"CANCEL DATE",null,"CANCEL DATE"]
[null,"SHIP TO","IN SYSTEM",{"$nulls":4},"SHIP","UPS GROUND",null,null,"TERMS",null,"TERMS"]
[{"$nulls":7},"EMAIL","IN SYSTEM"]
[{"$nulls":7},"CCARD","credit card name, number and exp date."]
[]
[null,"DESIGN","DESIGN NAME & ICON AND CODE",{"$nulls":4},"NOTES:","EMAIL ART FOR APPROVAL"]
[null,"LOCATION","FRONT"]
[null,"NOTES","PAIRING"]
[]
[null,"BACK",{"$nulls":5},"DETAILS:"]
[null,"L1"]
[null,"L2"]
[null,"L3"]
[null,"L4"]
[null,"L5"]
[null,"L6"]
[null,"L7"]
[null,"L8"]
[null,"L9"]
[null,"LEFT CHEST"]
[null,"L1"]
[null,"L2"]
[null,"L3"]
[null,"SLEEVE"]
[null,"STYLE","COLOR","SMALL","MEDIUM","LARGE","XLARGE","XXLARGE","OSFA","TTL QTY","UNIT PRICE","EXTENDED"]
[{"$nulls":9},{"$f":"SUM(D31:I31)","v":0},null,{"$f":"J31*K31","v":{"v":0,"d":"$0.00"}}]
[{"$nulls":9},0,null,{"$f":"J32*K32","v":{"v":0,"d":"$0.00"}}]
[{"$nulls":9},{"$f":"SUM(D33:I33)","v":0},null,{"$f":"J33*K33","v":{"v":0,"d":"$0.00"}}]
[{"$nulls":9},0,null,{"v":0,"d":"$0.00"}]
[{"$nulls":9},0,null,{"v":0,"d":"$0.00"}]
[{"$nulls":9},0,null,{"v":0,"d":"$0.00"}]
[{"$nulls":9},0,null,{"v":0,"d":"$0.00"}]
[{"$nulls":9},0,null,{"v":0,"d":"$0.00"}]
[{"$nulls":9},0,null,{"v":0,"d":"$0.00"}]
[{"$nulls":9},0,null,{"v":0,"d":"$0.00"}]
[{"$nulls":9},0,null,{"v":0,"d":"$0.00"}]
[{"$nulls":9},0,null,{"v":0,"d":"$0.00"}]
[{"$nulls":9},0,null,{"v":0,"d":"$0.00"}]
[{"$nulls":9},0,null,{"v":0,"d":"$0.00"}]
[{"$nulls":9},{"$f":"SUM(J31:J44)","v":0},null,{"$f":"SUM(L31:L44)","v":{"v":0,"d":"$0.00"}}]

{"sheet":"ORDER 30","index":30,"n_rows":45,"n_cols":14,"rows_kept":45,"merged":[[0,1,0,5],[29,11,29,13],[30,11,30,13],[31,11,31,13],[32,11,32,13],[33,11,33,13],[34,11,34,13],[35,11,35,13],[36,11,36,13],[37,11,37,13],[38,11,38,13],[39,11,39,13],[40,11,40,13],[41,11,41,13],[42,11,42,13],[43,11,43,13],[44,11,44,13]]}
[null,"OPI",{"$nulls":5},"ORDER NUMBER"]
[null,"COMPANY","COMPANY NAME",{"$nulls":4},"SHOW","SHOW NAME",null,null,"SPECIAL NOTE"]
[null,"ACCT #","ACCOUNT #",{"$nulls":4},"PO#","PURCHASE ORDER NUMBER",null,null,"ORDER DATE",null,"ORDER DATE"]
[null,"BILL TO ","IN SYSTEM",{"$nulls":4},"CONTACT","CONTACT",null,null,"SHIP DATE",null,"SHIP DATE"]
[{"$nulls":7},"PHONE","IN SYSTEM",null,null,"SHIP EARLY DATE",null,"SHIP EARLY DATE"]
[{"$nulls":7},"FAX","IN SYSTEM",null,null,"CANCEL DATE",null,"CANCEL DATE"]
[null,"SHIP TO","IN SYSTEM",{"$nulls":4},"SHIP","UPS GROUND",null,null,"TERMS",null,"TERMS"]
[{"$nulls":7},"EMAIL","IN SYSTEM"]
[{"$nulls":7},"CCARD","credit card name, number and exp date."]
[]
[null,"DESIGN","DESIGN NAME & ICON AND CODE",{"$nulls":4},"NOTES:","EMAIL ART FOR APPROVAL"]
[null,"LOCATION","FRONT"]
[null,"NOTES","PAIRING"]
[]
[null,"BACK",{"$nulls":5},"DETAILS:"]
[null,"L1"]
[null,"L2"]
[null,"L3"]
[null,"L4"]
[null,"L5"]
[null,"L6"]
[null,"L7"]
[null,"L8"]
[null,"L9"]
[null,"LEFT CHEST"]
[null,"L1"]
[null,"L2"]
[null,"L3"]
[null,"SLEEVE"]
[null,"STYLE","COLOR","SMALL","MEDIUM","LARGE","XLARGE","XXLARGE","OSFA","TTL QTY","UNIT PRICE","EXTENDED"]
[{"$nulls":9},{"$f":"SUM(D31:I31)","v":0},null,{"$f":"J31*K31","v":{"v":0,"d":"$0.00"}}]
[{"$nulls":9},0,null,{"$f":"J32*K32","v":{"v":0,"d":"$0.00"}}]
[{"$nulls":9},{"$f":"SUM(D33:I33)","v":0},null,{"$f":"J33*K33","v":{"v":0,"d":"$0.00"}}]
[{"$nulls":9},0,null,{"v":0,"d":"$0.00"}]
[{"$nulls":9},0,null,{"v":0,"d":"$0.00"}]
[{"$nulls":9},0,null,{"v":0,"d":"$0.00"}]
[{"$nulls":9},0,null,{"v":0,"d":"$0.00"}]
[{"$nulls":9},0,null,{"v":0,"d":"$0.00"}]
[{"$nulls":9},0,null,{"v":0,"d":"$0.00"}]
[{"$nulls":9},0,null,{"v":0,"d":"$0.00"}]
[{"$nulls":9},0,null,{"v":0,"d":"$0.00"}]
[{"$nulls":9},0,null,{"v":0,"d":"$0.00"}]
[{"$nulls":9},0,null,{"v":0,"d":"$0.00"}]
[{"$nulls":9},0,null,{"v":0,"d":"$0.00"}]
[{"$nulls":9},{"$f":"SUM(J31:J44)","v":0},null,{"$f":"SUM(L31:L44)","v":{"v":0,"d":"$0.00"}}]

{"sheet":"ORDER 31","index":31,"n_rows":45,"n_cols":14,"rows_kept":45,"merged":[[0,1,0,5],[29,11,29,13],[30,11,30,13],[31,11,31,13],[32,11,32,13],[33,11,33,13],[34,11,34,13],[35,11,35,13],[36,11,36,13],[37,11,37,13],[38,11,38,13],[39,11,39,13],[40,11,40,13],[41,11,41,13],[42,11,42,13],[43,11,43,13],[44,11,44,13]]}
[null,"OPI",{"$nulls":5},"ORDER NUMBER"]
[null,"COMPANY","COMPANY NAME",{"$nulls":4},"SHOW","SHOW NAME",null,null,"SPECIAL NOTE"]
[null,"ACCT #","ACCOUNT #",{"$nulls":4},"PO#","PURCHASE ORDER NUMBER",null,null,"ORDER DATE",null,"ORDER DATE"]
[null,"BILL TO ","IN SYSTEM",{"$nulls":4},"CONTACT","CONTACT",null,null,"SHIP DATE",null,"SHIP DATE"]
[{"$nulls":7},"PHONE","IN SYSTEM",null,null,"SHIP EARLY DATE",null,"SHIP EARLY DATE"]
[{"$nulls":7},"FAX","IN SYSTEM",null,null,"CANCEL DATE",null,"CANCEL DATE"]
[null,"SHIP TO","IN SYSTEM",{"$nulls":4},"SHIP","UPS GROUND",null,null,"TERMS",null,"TERMS"]
[{"$nulls":7},"EMAIL","IN SYSTEM"]
[{"$nulls":7},"CCARD","credit card name, number and exp date."]
[]
[null,"DESIGN","DESIGN NAME & ICON AND CODE",{"$nulls":4},"NOTES:","EMAIL ART FOR APPROVAL"]
[null,"LOCATION","FRONT"]
[null,"NOTES","PAIRING"]
[]
[null,"BACK",{"$nulls":5},"DETAILS:"]
[null,"L1"]
[null,"L2"]
[null,"L3"]
[null,"L4"]
[null,"L5"]
[null,"L6"]
[null,"L7"]
[null,"L8"]
[null,"L9"]
[null,"LEFT CHEST"]
[null,"L1"]
[null,"L2"]
[null,"L3"]
[null,"SLEEVE"]
[null,"STYLE","COLOR","SMALL","MEDIUM","LARGE","XLARGE","XXLARGE","OSFA","TTL QTY","UNIT PRICE","EXTENDED"]
[{"$nulls":9},{"$f":"SUM(D31:I31)","v":0},null,{"$f":"J31*K31","v":{"v":0,"d":"$0.00"}}]
[{"$nulls":9},0,null,{"$f":"J32*K32","v":{"v":0,"d":"$0.00"}}]
[{"$nulls":9},{"$f":"SUM(D33:I33)","v":0},null,{"$f":"J33*K33","v":{"v":0,"d":"$0.00"}}]
[{"$nulls":9},0,null,{"v":0,"d":"$0.00"}]
[{"$nulls":9},0,null,{"v":0,"d":"$0.00"}]
[{"$nulls":9},0,null,{"v":0,"d":"$0.00"}]
[{"$nulls":9},0,null,{"v":0,"d":"$0.00"}]
[{"$nulls":9},0,null,{"v":0,"d":"$0.00"}]
[{"$nulls":9},0,null,{"v":0,"d":"$0.00"}]
[{"$nulls":9},0,null,{"v":0,"d":"$0.00"}]
[{"$nulls":9},0,null,{"v":0,"d":"$0.00"}]
[{"$nulls":9},0,null,{"v":0,"d":"$0.00"}]
[{"$nulls":9},0,null,{"v":0,"d":"$0.00"}]
[{"$nulls":9},0,null,{"v":0,"d":"$0.00"}]
[{"$nulls":9},{"$f":"SUM(J31:J44)","v":0},null,{"$f":"SUM(L31:L44)","v":{"v":0,"d":"$0.00"}}]

{"sheet":"ORDER 32","index":32,"n_rows":45,"n_cols":14,"rows_kept":45,"merged":[[0,1,0,5],[29,11,29,13],[30,11,30,13],[31,11,31,13],[32,11,32,13],[33,11,33,13],[34,11,34,13],[35,11,35,13],[36,11,36,13],[37,11,37,13],[38,11,38,13],[39,11,39,13],[40,11,40,13],[41,11,41,13],[42,11,42,13],[43,11,43,13],[44,11,44,13]]}
[null,"OPI",{"$nulls":5},"ORDER NUMBER"]
[null,"COMPANY","COMPANY NAME",{"$nulls":4},"SHOW","SHOW NAME",null,null,"SPECIAL NOTE"]
[null,"ACCT #","ACCOUNT #",{"$nulls":4},"PO#","PURCHASE ORDER NUMBER",null,null,"ORDER DATE",null,"ORDER DATE"]
[null,"BILL TO ","IN SYSTEM",{"$nulls":4},"CONTACT","CONTACT",null,null,"SHIP DATE",null,"SHIP DATE"]
[{"$nulls":7},"PHONE","IN SYSTEM",null,null,"SHIP EARLY DATE",null,"SHIP EARLY DATE"]
[{"$nulls":7},"FAX","IN SYSTEM",null,null,"CANCEL DATE",null,"CANCEL DATE"]
[null,"SHIP TO","IN SYSTEM",{"$nulls":4},"SHIP","UPS GROUND",null,null,"TERMS",null,"TERMS"]
[{"$nulls":7},"EMAIL","IN SYSTEM"]
[{"$nulls":7},"CCARD","credit card name, number and exp date."]
[]
[null,"DESIGN","DESIGN NAME & ICON AND CODE",{"$nulls":4},"NOTES:","EMAIL ART FOR APPROVAL"]
[null,"LOCATION","FRONT"]
[null,"NOTES","PAIRING"]
[]
[null,"BACK",{"$nulls":5},"DETAILS:"]
[null,"L1"]
[null,"L2"]
[null,"L3"]
[null,"L4"]
[null,"L5"]
[null,"L6"]
[null,"L7"]
[null,"L8"]
[null,"L9"]
[null,"LEFT CHEST"]
[null,"L1"]
[null,"L2"]
[null,"L3"]
[null,"SLEEVE"]
[null,"STYLE","COLOR","SMALL","MEDIUM","LARGE","XLARGE","XXLARGE","OSFA","TTL QTY","UNIT PRICE","EXTENDED"]
[{"$nulls":9},{"$f":"SUM(D31:I31)","v":0},null,{"$f":"J31*K31","v":{"v":0,"d":"$0.00"}}]
[{"$nulls":9},0,null,{"$f":"J32*K32","v":{"v":0,"d":"$0.00"}}]
[{"$nulls":9},{"$f":"SUM(D33:I33)","v":0},null,{"$f":"J33*K33","v":{"v":0,"d":"$0.00"}}]
[{"$nulls":9},0,null,{"v":0,"d":"$0.00"}]
[{"$nulls":9},0,null,{"v":0,"d":"$0.00"}]
[{"$nulls":9},0,null,{"v":0,"d":"$0.00"}]
[{"$nulls":9},0,null,{"v":0,"d":"$0.00"}]
[{"$nulls":9},0,null,{"v":0,"d":"$0.00"}]
[{"$nulls":9},0,null,{"v":0,"d":"$0.00"}]
[{"$nulls":9},0,null,{"v":0,"d":"$0.00"}]
[{"$nulls":9},0,null,{"v":0,"d":"$0.00"}]
[{"$nulls":9},0,null,{"v":0,"d":"$0.00"}]
[{"$nulls":9},0,null,{"v":0,"d":"$0.00"}]
[{"$nulls":9},0,null,{"v":0,"d":"$0.00"}]
[{"$nulls":9},{"$f":"SUM(J31:J44)","v":0},null,{"$f":"SUM(L31:L44)","v":{"v":0,"d":"$0.00"}}]

{"sheet":"ORDER 33","index":33,"n_rows":45,"n_cols":14,"rows_kept":45,"merged":[[0,1,0,5],[29,11,29,13],[30,11,30,13],[31,11,31,13],[32,11,32,13],[33,11,33,13],[34,11,34,13],[35,11,35,13],[36,11,36,13],[37,11,37,13],[38,11,38,13],[39,11,39,13],[40,11,40,13],[41,11,41,13],[42,11,42,13],[43,11,43,13],[44,11,44,13]]}
[null,"OPI",{"$nulls":5},"ORDER NUMBER"]
[null,"COMPANY","COMPANY NAME",{"$nulls":4},"SHOW","SHOW NAME",null,null,"SPECIAL NOTE"]
[null,"ACCT #","ACCOUNT #",{"$nulls":4},"PO#","PURCHASE ORDER NUMBER",null,null,"ORDER DATE",null,"ORDER DATE"]
[null,"BILL TO ","IN SYSTEM",{"$nulls":4},"CONTACT","CONTACT",null,null,"SHIP DATE",null,"SHIP DATE"]
[{"$nulls":7},"PHONE","IN SYSTEM",null,null,"SHIP EARLY DATE",null,"SHIP EARLY DATE"]
[{"$nulls":7},"FAX","IN SYSTEM",null,null,"CANCEL DATE",null,"CANCEL DATE"]
[null,"SHIP TO","IN SYSTEM",{"$nulls":4},"SHIP","UPS GROUND",null,null,"TERMS",null,"TERMS"]
[{"$nulls":7},"EMAIL","IN SYSTEM"]
[{"$nulls":7},"CCARD","credit card name, number and exp date."]
[]
[null,"DESIGN","DESIGN NAME & ICON AND CODE",{"$nulls":4},"NOTES:","EMAIL ART FOR APPROVAL"]
[null,"LOCATION","FRONT"]
[null,"NOTES","PAIRING"]
[]
[null,"BACK",{"$nulls":5},"DETAILS:"]
[null,"L1"]
[null,"L2"]
[null,"L3"]
[null,"L4"]
[null,"L5"]
[null,"L6"]
[null,"L7"]
[null,"L8"]
[null,"L9"]
[null,"LEFT CHEST"]
[null,"L1"]
[null,"L2"]
[null,"L3"]
[null,"SLEEVE"]
[null,"STYLE","COLOR","SMALL","MEDIUM","LARGE","XLARGE","XXLARGE","OSFA","TTL QTY","UNIT PRICE","EXTENDED"]
[{"$nulls":9},{"$f":"SUM(D31:I31)","v":0},null,{"$f":"J31*K31","v":{"v":0,"d":"$0.00"}}]
[{"$nulls":9},0,null,{"$f":"J32*K32","v":{"v":0,"d":"$0.00"}}]
[{"$nulls":9},{"$f":"SUM(D33:I33)","v":0},null,{"$f":"J33*K33","v":{"v":0,"d":"$0.00"}}]
[{"$nulls":9},0,null,{"v":0,"d":"$0.00"}]
[{"$nulls":9},0,null,{"v":0,"d":"$0.00"}]
[{"$nulls":9},0,null,{"v":0,"d":"$0.00"}]
[{"$nulls":9},0,null,{"v":0,"d":"$0.00"}]
[{"$nulls":9},0,null,{"v":0,"d":"$0.00"}]
[{"$nulls":9},0,null,{"v":0,"d":"$0.00"}]
[{"$nulls":9},0,null,{"v":0,"d":"$0.00"}]
[{"$nulls":9},0,null,{"v":0,"d":"$0.00"}]
[{"$nulls":9},0,null,{"v":0,"d":"$0.00"}]
[{"$nulls":9},0,null,{"v":0,"d":"$0.00"}]
[{"$nulls":9},0,null,{"v":0,"d":"$0.00"}]
[{"$nulls":9},{"$f":"SUM(J31:J44)","v":0},null,{"$f":"SUM(L31:L44)","v":{"v":0,"d":"$0.00"}}]

{"sheet":"ORDER 34","index":34,"n_rows":45,"n_cols":14,"rows_kept":45,"merged":[[0,1,0,5],[29,11,29,13],[30,11,30,13],[31,11,31,13],[32,11,32,13],[33,11,33,13],[34,11,34,13],[35,11,35,13],[36,11,36,13],[37,11,37,13],[38,11,38,13],[39,11,39,13],[40,11,40,13],[41,11,41,13],[42,11,42,13],[43,11,43,13],[44,11,44,13]]}
[null,"OPI",{"$nulls":5},"ORDER NUMBER"]
[null,"COMPANY","COMPANY NAME",{"$nulls":4},"SHOW","SHOW NAME",null,null,"SPECIAL NOTE"]
[null,"ACCT #","ACCOUNT #",{"$nulls":4},"PO#","PURCHASE ORDER NUMBER",null,null,"ORDER DATE",null,"ORDER DATE"]
[null,"BILL TO ","IN SYSTEM",{"$nulls":4},"CONTACT","CONTACT",null,null,"SHIP DATE",null,"SHIP DATE"]
[{"$nulls":7},"PHONE","IN SYSTEM",null,null,"SHIP EARLY DATE",null,"SHIP EARLY DATE"]
[{"$nulls":7},"FAX","IN SYSTEM",null,null,"CANCEL DATE",null,"CANCEL DATE"]
[null,"SHIP TO","IN SYSTEM",{"$nulls":4},"SHIP","UPS GROUND",null,null,"TERMS",null,"TERMS"]
[{"$nulls":7},"EMAIL","IN SYSTEM"]
[{"$nulls":7},"CCARD","credit card name, number and exp date."]
[]
[null,"DESIGN","DESIGN NAME & ICON AND CODE",{"$nulls":4},"NOTES:","EMAIL ART FOR APPROVAL"]
[null,"LOCATION","FRONT"]
[null,"NOTES","PAIRING"]
[]
[null,"BACK",{"$nulls":5},"DETAILS:"]
[null,"L1"]
[null,"L2"]
[null,"L3"]
[null,"L4"]
[null,"L5"]
[null,"L6"]
[null,"L7"]
[null,"L8"]
[null,"L9"]
[null,"LEFT CHEST"]
[null,"L1"]
[null,"L2"]
[null,"L3"]
[null,"SLEEVE"]
[null,"STYLE","COLOR","SMALL","MEDIUM","LARGE","XLARGE","XXLARGE","OSFA","TTL QTY","UNIT PRICE","EXTENDED"]
[{"$nulls":9},{"$f":"SUM(D31:I31)","v":0},null,{"$f":"J31*K31","v":{"v":0,"d":"$0.00"}}]
[{"$nulls":9},0,null,{"$f":"J32*K32","v":{"v":0,"d":"$0.00"}}]
[{"$nulls":9},{"$f":"SUM(D33:I33)","v":0},null,{"$f":"J33*K33","v":{"v":0,"d":"$0.00"}}]
[{"$nulls":9},0,null,{"v":0,"d":"$0.00"}]
[{"$nulls":9},0,null,{"v":0,"d":"$0.00"}]
[{"$nulls":9},0,null,{"v":0,"d":"$0.00"}]
[{"$nulls":9},0,null,{"v":0,"d":"$0.00"}]
[{"$nulls":9},0,null,{"v":0,"d":"$0.00"}]
[{"$nulls":9},0,null,{"v":0,"d":"$0.00"}]
[{"$nulls":9},0,null,{"v":0,"d":"$0.00"}]
[{"$nulls":9},0,null,{"v":0,"d":"$0.00"}]
[{"$nulls":9},0,null,{"v":0,"d":"$0.00"}]
[{"$nulls":9},0,null,{"v":0,"d":"$0.00"}]
[{"$nulls":9},0,null,{"v":0,"d":"$0.00"}]
[{"$nulls":9},{"$f":"SUM(J31:J44)","v":0},null,{"$f":"SUM(L31:L44)","v":{"v":0,"d":"$0.00"}}]

{"sheet":"ORDER 35","index":35,"n_rows":45,"n_cols":14,"rows_kept":45,"merged":[[0,1,0,5],[29,11,29,13],[30,11,30,13],[31,11,31,13],[32,11,32,13],[33,11,33,13],[34,11,34,13],[35,11,35,13],[36,11,36,13],[37,11,37,13],[38,11,38,13],[39,11,39,13],[40,11,40,13],[41,11,41,13],[42,11,42,13],[43,11,43,13],[44,11,44,13]]}
[null,"OPI",{"$nulls":5},"ORDER NUMBER"]
[null,"COMPANY","COMPANY NAME",{"$nulls":4},"SHOW","SHOW NAME",null,null,"SPECIAL NOTE"]
[null,"ACCT #","ACCOUNT #",{"$nulls":4},"PO#","PURCHASE ORDER NUMBER",null,null,"ORDER DATE",null,"ORDER DATE"]
[null,"BILL TO ","IN SYSTEM",{"$nulls":4},"CONTACT","CONTACT",null,null,"SHIP DATE",null,"SHIP DATE"]
[{"$nulls":7},"PHONE","IN SYSTEM",null,null,"SHIP EARLY DATE",null,"SHIP EARLY DATE"]
[{"$nulls":7},"FAX","IN SYSTEM",null,null,"CANCEL DATE",null,"CANCEL DATE"]
[null,"SHIP TO","IN SYSTEM",{"$nulls":4},"SHIP","UPS GROUND",null,null,"TERMS",null,"TERMS"]
[{"$nulls":7},"EMAIL","IN SYSTEM"]
[{"$nulls":7},"CCARD","credit card name, number and exp date."]
[]
[null,"DESIGN","DESIGN NAME & ICON AND CODE",{"$nulls":4},"NOTES:","EMAIL ART FOR APPROVAL"]
[null,"LOCATION","LOCATION"]
[null,"NOTES","PAIRING"]
[]
[null,"BACK",{"$nulls":5},"DETAILS:"]
[null,"L1"]
[null,"L2"]
[null,"L3"]
[null,"L4"]
[null,"L5"]
[null,"L6"]
[null,"L7"]
[null,"L8"]
[null,"L9"]
[null,"LEFT CHEST"]
[null,"L1"]
[null,"L2"]
[null,"L3"]
[null,"SLEEVE"]
[null,"STYLE","COLOR","SMALL","MEDIUM","LARGE","XLARGE","XXLARGE","OSFA","TTL QTY","UNIT PRICE","EXTENDED"]
[{"$nulls":9},{"$f":"SUM(D31:I31)","v":0},null,{"$f":"J31*K31","v":{"v":0,"d":"$0.00"}}]
[{"$nulls":9},0,null,{"$f":"J32*K32","v":{"v":0,"d":"$0.00"}}]
[{"$nulls":9},0,null,{"v":0,"d":"$0.00"}]
[{"$nulls":9},{"$f":"SUM(D34:I34)","v":0},null,{"$f":"J34*K34","v":{"v":0,"d":"$0.00"}}]
[{"$nulls":9},0,null,{"v":0,"d":"$0.00"}]
[{"$nulls":9},0,null,{"v":0,"d":"$0.00"}]
[{"$nulls":9},0,null,{"v":0,"d":"$0.00"}]
[{"$nulls":9},0,null,{"v":0,"d":"$0.00"}]
[{"$nulls":9},0,null,{"v":0,"d":"$0.00"}]
[{"$nulls":9},0,null,{"v":0,"d":"$0.00"}]
[{"$nulls":9},0,null,{"v":0,"d":"$0.00"}]
[{"$nulls":9},0,null,{"v":0,"d":"$0.00"}]
[{"$nulls":9},0,null,{"v":0,"d":"$0.00"}]
[{"$nulls":9},0,null,{"v":0,"d":"$0.00"}]
[{"$nulls":9},{"$f":"SUM(J31:J44)","v":0},null,{"$f":"SUM(L31:L44)","v":{"v":0,"d":"$0.00"}}]